BEGIN:VCALENDAR
VERSION:2.0
PRODID:-//UNIVERSITY OF TEXAS SCHOOL OF LAW//NONSGML Events Calendar v1.0//EN
X-WR-TIMEZONE:America/Chicago
BEGIN:VTIMEZONE
TZID:US/Central
X-LIC-LOCATION:America/Chicago
BEGIN:DAYLIGHT
TZOFFSETFROM:-0600
TZOFFSETTO:-0500
TZNAME:CDT
DTSTART:19700308T020000
RRULE:FREQ=YEARLY;BYMONTH=3;BYDAY=2SU
END:DAYLIGHT
BEGIN:STANDARD
TZOFFSETFROM:-0500
TZOFFSETTO:-0600
TZNAME:CST
DTSTART:19701101T020000
RRULE:FREQ=YEARLY;BYMONTH=11;BYDAY=1SU
END:STANDARD
END:VTIMEZONE
BEGIN:VEVENT
DTSTART;TZID=US/Central:20101108T113000
DTEND;VALUE=DATE-TIME;TZID=US/Central:20101108T133000

DTSTAMP:20260424T200000Z
CREATED:20100826T165000Z
LAST-MODIFIED:20101103T175000Z
UID:20101108T113000-8812@law.utexas.edu
SUMMARY:Lives in the Law
DESCRIPTION:<p>Featuring Pamela M. Brown, Director of the Bi-National Project on Family Violence, an initiative of Texas RioGrande Legal Aid. From 11:30 pm to 12:30 pm, Brown will speak about her innovative transborder work reuniting parents with internationally abducted children and her work advocating for the rights of victims of domestic violence in child custody disputes. From 12:30 p.m. to 1:30 p.m. she will talk about her life in the law. Lunch will be served at 11:30 a.m. and 12:30 p.m. Students may attend one or both sessions. Please RSVP by Friday, November 5, on <a href="https://law-utexas-csm.symplicity.com/students/">UT Law Symplicity</a> by selecting the "Events" tab. </p>
  <p>Sponsored by the <a href="%E2%80%9D">William Wayne Justice Center for Public Interest Law</a>, <a href="http://www.utexas.edu/law/career">Career Services Office</a>, <a href="%E2%80%9D">Domestic Violence Survivor Support Network</a>, <a href="%E2%80%9D">International Law Society of Texas</a>, and Public Interest Law Association. 
  </p>\n\nIf you need an accommodation to participate in this event, please contact the event sponsor or the Texas Law Special Events Office at specialevents@law.utexas.edu no later than seven business days prior to the event.
X-ALT-DESC;FMTTYPE=text/html:<p>Featuring Pamela M. Brown, Director of the Bi-National Project on Family Violence, an initiative of Texas RioGrande Legal Aid. From 11:30 pm to 12:30 pm, Brown will speak about her innovative transborder work reuniting parents with internationally abducted children and her work advocating for the rights of victims of domestic violence in child custody disputes. From 12:30 p.m. to 1:30 p.m. she will talk about her life in the law. Lunch will be served at 11:30 a.m. and 12:30 p.m. Students may attend one or both sessions. Please RSVP by Friday, November 5, on <a href="https://law-utexas-csm.symplicity.com/students/">UT Law Symplicity</a> by selecting the "Events" tab. </p>
  <p>Sponsored by the <a href="%E2%80%9D">William Wayne Justice Center for Public Interest Law</a>, <a href="http://www.utexas.edu/law/career">Career Services Office</a>, <a href="%E2%80%9D">Domestic Violence Survivor Support Network</a>, <a href="%E2%80%9D">International Law Society of Texas</a>, and Public Interest Law Association. 
  </p><p>If you need an accommodation to participate in this event, please contact the event
                                          event sponsor or the Texas Law Special Events Office at <a href="mailto:specialevents@law.utexas.edu">specialevents@law.utexas.edu</a> no later than seven business days prior to the event.</p>
CATEGORIES:Panel Discussion / Speaker Series
LOCATION:TNH 2.111 - Sheffield-Massey Room
URL:http://law.utexas.edu/calendar/2010/11/08/8812/
CLASS:PUBLIC
STATUS:CONFIRMED

END:VEVENT
END:VCALENDAR