BEGIN:VCALENDAR
VERSION:2.0
PRODID:-//UNIVERSITY OF TEXAS SCHOOL OF LAW//NONSGML Events Calendar v1.0//EN
X-WR-TIMEZONE:America/Chicago
BEGIN:VTIMEZONE
TZID:US/Central
X-LIC-LOCATION:America/Chicago
BEGIN:DAYLIGHT
TZOFFSETFROM:-0600
TZOFFSETTO:-0500
TZNAME:CDT
DTSTART:19700308T020000
RRULE:FREQ=YEARLY;BYMONTH=3;BYDAY=2SU
END:DAYLIGHT
BEGIN:STANDARD
TZOFFSETFROM:-0500
TZOFFSETTO:-0600
TZNAME:CST
DTSTART:19701101T020000
RRULE:FREQ=YEARLY;BYMONTH=11;BYDAY=1SU
END:STANDARD
END:VTIMEZONE
BEGIN:VEVENT
DTSTART;TZID=US/Central:20101108T160000
DTEND;VALUE=DATE-TIME;TZID=US/Central:20101108T170000

DTSTAMP:20260424T195900Z
CREATED:20101102T013000Z
LAST-MODIFIED:20101102T143700Z
UID:20101108T160000-9468@law.utexas.edu
SUMMARY:LSRJ Meeting
DESCRIPTION:<p>Law Students for Reproductive Justice will meet Monday, Nov. 8, in room 3.127, from 4:00-5:00pm. As always, we'll have yummy snacks. This is the last meeting of the year, so if you've been waiting to get involved, wait no longer! </p>\n\nIf you need an accommodation to participate in this event, please contact the event sponsor or the Texas Law Special Events Office at specialevents@law.utexas.edu no later than seven business days prior to the event.
X-ALT-DESC;FMTTYPE=text/html:<p>Law Students for Reproductive Justice will meet Monday, Nov. 8, in room 3.127, from 4:00-5:00pm. As always, we'll have yummy snacks. This is the last meeting of the year, so if you've been waiting to get involved, wait no longer! </p><p>If you need an accommodation to participate in this event, please contact the event
                                          event sponsor or the Texas Law Special Events Office at <a href="mailto:specialevents@law.utexas.edu">specialevents@law.utexas.edu</a> no later than seven business days prior to the event.</p>
CATEGORIES:Meeting
LOCATION:TNH 3.127 - Roberts Classroom
URL:http://law.utexas.edu/calendar/2010/11/08/9468/
CLASS:PUBLIC
STATUS:CONFIRMED

END:VEVENT
END:VCALENDAR