BEGIN:VCALENDAR
VERSION:2.0
PRODID:-//UNIVERSITY OF TEXAS SCHOOL OF LAW//NONSGML Events Calendar v1.0//EN
X-WR-TIMEZONE:America/Chicago
BEGIN:VTIMEZONE
TZID:US/Central
X-LIC-LOCATION:America/Chicago
BEGIN:DAYLIGHT
TZOFFSETFROM:-0600
TZOFFSETTO:-0500
TZNAME:CDT
DTSTART:19700308T020000
RRULE:FREQ=YEARLY;BYMONTH=3;BYDAY=2SU
END:DAYLIGHT
BEGIN:STANDARD
TZOFFSETFROM:-0500
TZOFFSETTO:-0600
TZNAME:CST
DTSTART:19701101T020000
RRULE:FREQ=YEARLY;BYMONTH=11;BYDAY=1SU
END:STANDARD
END:VTIMEZONE
BEGIN:VEVENT
DTSTART;TZID=US/Central:20101109T111500
DTEND;VALUE=DATE-TIME;TZID=US/Central:20101109T121500

DTSTAMP:20260424T200000Z
CREATED:20101102T154400Z
LAST-MODIFIED:20101108T174800Z
UID:20101109T111500-9485@law.utexas.edu
SUMMARY:U.S. Marine Corps JAG Info Session
DESCRIPTION:<p>Major Jeremiah Salame, former Battalion Executive Officer with the 1st Battalion, 7th Marines, will discuss the opportunities and expectations of serving in the <a href="http://www.marines.mil/Pages/Default.aspx">Marine Corps</a>  JAG. He will also discuss the experience of a Judge Advocate in Iraq.  Please RSVP by Monday, November 8, on <a href="https://law-utexas-csm.symplicity.com/students/">UT Law Symplicity</a> by selecting the "Events" tab. In consideration of the Solomon Amendment, the U.S. Armed Forces are exempt from the provisions of the University's nondiscrimination policy as it relates to sexual orientation. </p>\n\nIf you need an accommodation to participate in this event, please contact the event sponsor or the Texas Law Special Events Office at specialevents@law.utexas.edu no later than seven business days prior to the event.
X-ALT-DESC;FMTTYPE=text/html:<p>Major Jeremiah Salame, former Battalion Executive Officer with the 1st Battalion, 7th Marines, will discuss the opportunities and expectations of serving in the <a href="http://www.marines.mil/Pages/Default.aspx">Marine Corps</a>  JAG. He will also discuss the experience of a Judge Advocate in Iraq.  Please RSVP by Monday, November 8, on <a href="https://law-utexas-csm.symplicity.com/students/">UT Law Symplicity</a> by selecting the "Events" tab. In consideration of the Solomon Amendment, the U.S. Armed Forces are exempt from the provisions of the University's nondiscrimination policy as it relates to sexual orientation. </p><p>If you need an accommodation to participate in this event, please contact the event
                                          event sponsor or the Texas Law Special Events Office at <a href="mailto:specialevents@law.utexas.edu">specialevents@law.utexas.edu</a> no later than seven business days prior to the event.</p>
CATEGORIES:Meeting
LOCATION:TNH 3.140 - Jeffers Courtroom
URL:http://law.utexas.edu/calendar/2010/11/09/9485/
CLASS:PUBLIC
STATUS:CONFIRMED
COMMENT:Please contact Denyse Demel  at <a href="mailto:ddemel@law.utexas.edu">ddemel@law.utexas.edu</a> in the CSO.
END:VEVENT
END:VCALENDAR