BEGIN:VCALENDAR
VERSION:2.0
PRODID:-//UNIVERSITY OF TEXAS SCHOOL OF LAW//NONSGML Events Calendar v1.0//EN
X-WR-TIMEZONE:America/Chicago
BEGIN:VTIMEZONE
TZID:US/Central
X-LIC-LOCATION:America/Chicago
BEGIN:DAYLIGHT
TZOFFSETFROM:-0600
TZOFFSETTO:-0500
TZNAME:CDT
DTSTART:19700308T020000
RRULE:FREQ=YEARLY;BYMONTH=3;BYDAY=2SU
END:DAYLIGHT
BEGIN:STANDARD
TZOFFSETFROM:-0500
TZOFFSETTO:-0600
TZNAME:CST
DTSTART:19701101T020000
RRULE:FREQ=YEARLY;BYMONTH=11;BYDAY=1SU
END:STANDARD
END:VTIMEZONE
BEGIN:VEVENT
DTSTART;TZID=US/Central:20101110T090000
DTEND;VALUE=DATE-TIME;TZID=US/Central:20101110T120000

DTSTAMP:20260424T200000Z
CREATED:20101105T133700Z
LAST-MODIFIED:20111021T190800Z
UID:20101110T090000-9542@law.utexas.edu
SUMMARY:Winter Break Trip 2011 Information Table
DESCRIPTION:<p>UT Law students will travel to the Rio Grande Valley to participate in law-related volunteer projects from January 9-14, 2011. The trips are being organized by PB in J, a law student organization, and the law school’s Pro Bono Program, whose joint vision is that UT Law students will have the opportunity to participate in meaningful pro bono work through a week-long service trip during the second week of January.</p>
  <p>Application Deadline: NOVEMBER 17, 2010</p>\n\nIf you need an accommodation to participate in this event, please contact the event sponsor or the Texas Law Special Events Office at specialevents@law.utexas.edu no later than seven business days prior to the event.
X-ALT-DESC;FMTTYPE=text/html:<p>UT Law students will travel to the Rio Grande Valley to participate in law-related volunteer projects from January 9-14, 2011. The trips are being organized by PB in J, a law student organization, and the law school’s Pro Bono Program, whose joint vision is that UT Law students will have the opportunity to participate in meaningful pro bono work through a week-long service trip during the second week of January.</p>
  <p>Application Deadline: NOVEMBER 17, 2010</p><p>If you need an accommodation to participate in this event, please contact the event
                                          event sponsor or the Texas Law Special Events Office at <a href="mailto:specialevents@law.utexas.edu">specialevents@law.utexas.edu</a> no later than seven business days prior to the event.</p>
CATEGORIES:Other
LOCATION:TNH 2.100 - Susman Godfrey Atrium
URL:http://law.utexas.edu/calendar/2010/11/10/9542/
CLASS:PUBLIC
STATUS:CONFIRMED

END:VEVENT
END:VCALENDAR