BEGIN:VCALENDAR
VERSION:2.0
PRODID:-//UNIVERSITY OF TEXAS SCHOOL OF LAW//NONSGML Events Calendar v1.0//EN
X-WR-TIMEZONE:America/Chicago
BEGIN:VTIMEZONE
TZID:US/Central
X-LIC-LOCATION:America/Chicago
BEGIN:DAYLIGHT
TZOFFSETFROM:-0600
TZOFFSETTO:-0500
TZNAME:CDT
DTSTART:19700308T020000
RRULE:FREQ=YEARLY;BYMONTH=3;BYDAY=2SU
END:DAYLIGHT
BEGIN:STANDARD
TZOFFSETFROM:-0500
TZOFFSETTO:-0600
TZNAME:CST
DTSTART:19701101T020000
RRULE:FREQ=YEARLY;BYMONTH=11;BYDAY=1SU
END:STANDARD
END:VTIMEZONE
BEGIN:VEVENT
DTSTART;TZID=US/Central:20101112T143000
DTEND;VALUE=DATE-TIME;TZID=US/Central:20101112T153000

DTSTAMP:20260424T195100Z
CREATED:20101018T173500Z
LAST-MODIFIED:20101109T195900Z
UID:20101112T143000-9145@law.utexas.edu
SUMMARY:1L Practice Exam
DESCRIPTION:<p>The SAO is offering an opportunity for you to take a practice exam question under timed conditions, using the Exam4, the software you'll use to type your exams.  This is an excellent chance to acclimate yourself to the software, as well as to get a taste of what your actual exams will be like.  </p>
  <p>Section 1A, 1B, 1D	Torts	2:30pm	3.142</p>
  <p>Section 1C	Torts	        10:30am	3.126</p>
  <p>Section 2	Contracts	10:30am	2.137</p>
  <p>Section 3	Property	2:30pm	2.138</p>
  <p>Section 4	Civil Procedure	2:30pm	2.140
  </p>\n\nIf you need an accommodation to participate in this event, please contact the event sponsor or the Texas Law Special Events Office at specialevents@law.utexas.edu no later than seven business days prior to the event.
X-ALT-DESC;FMTTYPE=text/html:<p>The SAO is offering an opportunity for you to take a practice exam question under timed conditions, using the Exam4, the software you'll use to type your exams.  This is an excellent chance to acclimate yourself to the software, as well as to get a taste of what your actual exams will be like.  </p>
  <p>Section 1A, 1B, 1D	Torts	2:30pm	3.142</p>
  <p>Section 1C	Torts	        10:30am	3.126</p>
  <p>Section 2	Contracts	10:30am	2.137</p>
  <p>Section 3	Property	2:30pm	2.138</p>
  <p>Section 4	Civil Procedure	2:30pm	2.140
  </p><p>If you need an accommodation to participate in this event, please contact the event
                                          event sponsor or the Texas Law Special Events Office at <a href="mailto:specialevents@law.utexas.edu">specialevents@law.utexas.edu</a> no later than seven business days prior to the event.</p>
CATEGORIES:Workshop / Training Program
LOCATION:TNH 2.137 - Gayle Classroom
URL:http://law.utexas.edu/calendar/2010/11/12/9145/
CLASS:PUBLIC
STATUS:CONFIRMED

END:VEVENT
END:VCALENDAR