BEGIN:VCALENDAR
VERSION:2.0
PRODID:-//UNIVERSITY OF TEXAS SCHOOL OF LAW//NONSGML Events Calendar v1.0//EN
X-WR-TIMEZONE:America/Chicago
BEGIN:VTIMEZONE
TZID:US/Central
X-LIC-LOCATION:America/Chicago
BEGIN:DAYLIGHT
TZOFFSETFROM:-0600
TZOFFSETTO:-0500
TZNAME:CDT
DTSTART:19700308T020000
RRULE:FREQ=YEARLY;BYMONTH=3;BYDAY=2SU
END:DAYLIGHT
BEGIN:STANDARD
TZOFFSETFROM:-0500
TZOFFSETTO:-0600
TZNAME:CST
DTSTART:19701101T020000
RRULE:FREQ=YEARLY;BYMONTH=11;BYDAY=1SU
END:STANDARD
END:VTIMEZONE
BEGIN:VEVENT
DTSTART;TZID=US/Central:20101115T113000
DTEND;VALUE=DATE-TIME;TZID=US/Central:20101115T123000

DTSTAMP:20260424T195200Z
CREATED:20101029T203300Z
LAST-MODIFIED:20101029T203400Z
UID:20101115T113000-9422@law.utexas.edu
SUMMARY:Townsend Prize for IP Writing
DESCRIPTION:<p><a href="http://www.townsend.com/">Townsend and Townsend and Crew</a>, an intellectual property boutique law firm, sponsors a writing contest in which all eligible students may submit  a paper of 2,000 words or less on an IP-related topic of the student's choosing.  The first place winner at each  school will receive a cash award of $1,000.  Come learn more about the writing prize as well as life as an IP attorney from  <a href="http://www.townsend.com/Attorneys-Professionals/attorneys/martinezmiranda">Miranda Martinez, ’08</a>, a litigation associate at Townsend and Townsend and Crew. Sponsored by the Intellectual Property Law Society. Pizza will be served. Please RSVP by Friday, November 12, on <a href="https://law-utexas-csm.symplicity.com/students/">UT Law Symplicity</a> by selecting the "Events" tab. </p>\n\nIf you need an accommodation to participate in this event, please contact the event sponsor or the Texas Law Special Events Office at specialevents@law.utexas.edu no later than seven business days prior to the event.
X-ALT-DESC;FMTTYPE=text/html:<p><a href="http://www.townsend.com/">Townsend and Townsend and Crew</a>, an intellectual property boutique law firm, sponsors a writing contest in which all eligible students may submit  a paper of 2,000 words or less on an IP-related topic of the student's choosing.  The first place winner at each  school will receive a cash award of $1,000.  Come learn more about the writing prize as well as life as an IP attorney from  <a href="http://www.townsend.com/Attorneys-Professionals/attorneys/martinezmiranda">Miranda Martinez, ’08</a>, a litigation associate at Townsend and Townsend and Crew. Sponsored by the Intellectual Property Law Society. Pizza will be served. Please RSVP by Friday, November 12, on <a href="https://law-utexas-csm.symplicity.com/students/">UT Law Symplicity</a> by selecting the "Events" tab. </p><p>If you need an accommodation to participate in this event, please contact the event
                                          event sponsor or the Texas Law Special Events Office at <a href="mailto:specialevents@law.utexas.edu">specialevents@law.utexas.edu</a> no later than seven business days prior to the event.</p>
CATEGORIES:Meeting
LOCATION:Career Services Interview Suite
URL:http://law.utexas.edu/calendar/2010/11/15/9422/
CLASS:PUBLIC
STATUS:CONFIRMED
COMMENT:Please contact Cat Garza at <a href="mailto:catg@mail.utexas.edu">catg@mail.utexas.edu</a> for more information.
END:VEVENT
END:VCALENDAR