BEGIN:VCALENDAR
VERSION:2.0
PRODID:-//UNIVERSITY OF TEXAS SCHOOL OF LAW//NONSGML Events Calendar v1.0//EN
X-WR-TIMEZONE:America/Chicago
BEGIN:VTIMEZONE
TZID:US/Central
X-LIC-LOCATION:America/Chicago
BEGIN:DAYLIGHT
TZOFFSETFROM:-0600
TZOFFSETTO:-0500
TZNAME:CDT
DTSTART:19700308T020000
RRULE:FREQ=YEARLY;BYMONTH=3;BYDAY=2SU
END:DAYLIGHT
BEGIN:STANDARD
TZOFFSETFROM:-0500
TZOFFSETTO:-0600
TZNAME:CST
DTSTART:19701101T020000
RRULE:FREQ=YEARLY;BYMONTH=11;BYDAY=1SU
END:STANDARD
END:VTIMEZONE
BEGIN:VEVENT
DTSTART;TZID=US/Central:20101116T153000
DTEND;VALUE=DATE-TIME;TZID=US/Central:20101116T163000

DTSTAMP:20260424T213000Z
CREATED:20101020T150000Z
LAST-MODIFIED:20101029T004500Z
UID:20101116T153000-9183@law.utexas.edu
SUMMARY:Tarlton Talks with Professor Chesney
DESCRIPTION:<p>Do you wonder what your professors work on outside of the classroom? Here’s your chance to find out!  Professors speak to students in an informal setting about their personal research – what interests them, what they’ve learned, how they do it.  Get an inside look into legal scholarship and a chance to interact with professors outside of the classroom.  Our next speaker is Professor Bobby Chesney, whose work focuses on the legal aspects of U.S. national security policy and practices.  Whether it is terrorism, WMD proliferation, Guantanamo, torture, surveillance, computer network operations, or cartel violence in Mexico, there are many legal issues that arise.  If you are interested in how legal scholarship engages such questions, don’t miss this one!  Join us on Tuesday, November 16 at 3:30 pm in the Sheffield Room.  Light refreshments will be served. </p>\n\nIf you need an accommodation to participate in this event, please contact the event sponsor or the Texas Law Special Events Office at specialevents@law.utexas.edu no later than seven business days prior to the event.
X-ALT-DESC;FMTTYPE=text/html:<p>Do you wonder what your professors work on outside of the classroom? Here’s your chance to find out!  Professors speak to students in an informal setting about their personal research – what interests them, what they’ve learned, how they do it.  Get an inside look into legal scholarship and a chance to interact with professors outside of the classroom.  Our next speaker is Professor Bobby Chesney, whose work focuses on the legal aspects of U.S. national security policy and practices.  Whether it is terrorism, WMD proliferation, Guantanamo, torture, surveillance, computer network operations, or cartel violence in Mexico, there are many legal issues that arise.  If you are interested in how legal scholarship engages such questions, don’t miss this one!  Join us on Tuesday, November 16 at 3:30 pm in the Sheffield Room.  Light refreshments will be served. </p><p>If you need an accommodation to participate in this event, please contact the event
                                          event sponsor or the Texas Law Special Events Office at <a href="mailto:specialevents@law.utexas.edu">specialevents@law.utexas.edu</a> no later than seven business days prior to the event.</p>
CATEGORIES:Panel Discussion / Speaker Series
LOCATION:TNH 2.111 - Sheffield-Massey Room
URL:http://law.utexas.edu/calendar/2010/11/16/9183/
CLASS:PUBLIC
STATUS:CONFIRMED

END:VEVENT
END:VCALENDAR