BEGIN:VCALENDAR
VERSION:2.0
PRODID:-//UNIVERSITY OF TEXAS SCHOOL OF LAW//NONSGML Events Calendar v1.0//EN
X-WR-TIMEZONE:America/Chicago
BEGIN:VTIMEZONE
TZID:US/Central
X-LIC-LOCATION:America/Chicago
BEGIN:DAYLIGHT
TZOFFSETFROM:-0600
TZOFFSETTO:-0500
TZNAME:CDT
DTSTART:19700308T020000
RRULE:FREQ=YEARLY;BYMONTH=3;BYDAY=2SU
END:DAYLIGHT
BEGIN:STANDARD
TZOFFSETFROM:-0500
TZOFFSETTO:-0600
TZNAME:CST
DTSTART:19701101T020000
RRULE:FREQ=YEARLY;BYMONTH=11;BYDAY=1SU
END:STANDARD
END:VTIMEZONE
BEGIN:VEVENT
DTSTART;TZID=US/Central:20101118T123000
DTEND;VALUE=DATE-TIME;TZID=US/Central:20101118T133000

DTSTAMP:20260424T212000Z
CREATED:20101115T061000Z
LAST-MODIFIED:20101115T152400Z
UID:20101118T123000-9681@law.utexas.edu
SUMMARY:New Technology: Privacy and Free Speech
DESCRIPTION:<p>New technology has revolutionized how we all live. Technology can also pose risks to customers' privacy and freedom of expression. Failing to take these rights into account can easily lead to negative press, costly lawsuits and government investigations. That's why the ACLU of Northern California has developed 'Privacy and Free Speech: It's Good for Business,' a primer designed to help free speech protections in new technology.</p>
  <p>The talk will be give by Nicole Ozer, Technology and Civil Liberties Policy Director from the ACLU’s Northern California affiliate will speak about Internet rights and privacy and will be in the Eidman Jury Room on Thursday, November 18, at 12:30PM. Lunch will be provided.</p>\n\nIf you need an accommodation to participate in this event, please contact the event sponsor or the Texas Law Special Events Office at specialevents@law.utexas.edu no later than seven business days prior to the event.
X-ALT-DESC;FMTTYPE=text/html:<p>New technology has revolutionized how we all live. Technology can also pose risks to customers' privacy and freedom of expression. Failing to take these rights into account can easily lead to negative press, costly lawsuits and government investigations. That's why the ACLU of Northern California has developed 'Privacy and Free Speech: It's Good for Business,' a primer designed to help free speech protections in new technology.</p>
  <p>The talk will be give by Nicole Ozer, Technology and Civil Liberties Policy Director from the ACLU’s Northern California affiliate will speak about Internet rights and privacy and will be in the Eidman Jury Room on Thursday, November 18, at 12:30PM. Lunch will be provided.</p><p>If you need an accommodation to participate in this event, please contact the event
                                          event sponsor or the Texas Law Special Events Office at <a href="mailto:specialevents@law.utexas.edu">specialevents@law.utexas.edu</a> no later than seven business days prior to the event.</p>

LOCATION:CCJ 2.310 - Jury Room
URL:http://law.utexas.edu/calendar/2010/11/18/9681/
CLASS:PUBLIC
STATUS:CONFIRMED

END:VEVENT
END:VCALENDAR