BEGIN:VCALENDAR
VERSION:2.0
PRODID:-//UNIVERSITY OF TEXAS SCHOOL OF LAW//NONSGML Events Calendar v1.0//EN
X-WR-TIMEZONE:America/Chicago
BEGIN:VTIMEZONE
TZID:US/Central
X-LIC-LOCATION:America/Chicago
BEGIN:DAYLIGHT
TZOFFSETFROM:-0600
TZOFFSETTO:-0500
TZNAME:CDT
DTSTART:19700308T020000
RRULE:FREQ=YEARLY;BYMONTH=3;BYDAY=2SU
END:DAYLIGHT
BEGIN:STANDARD
TZOFFSETFROM:-0500
TZOFFSETTO:-0600
TZNAME:CST
DTSTART:19701101T020000
RRULE:FREQ=YEARLY;BYMONTH=11;BYDAY=1SU
END:STANDARD
END:VTIMEZONE
BEGIN:VEVENT
DTSTART;TZID=US/Central:20101122T150000
DTEND;VALUE=DATE-TIME;TZID=US/Central:20101122T160000

DTSTAMP:20260424T200000Z
CREATED:20100908T190300Z
LAST-MODIFIED:20101117T162800Z
UID:20101122T150000-8879@law.utexas.edu
SUMMARY:“Texas Tough” Book Talk
DESCRIPTION:<p>Author Robert Perkinson talks about his book “Texas Tough: The Rise of America’s Prison Empire”</p>
  <p>Co-presented with the Institute for Historical Studies</p>
  <p>Co-sponsored by the Department of African and African Diaspora Studies, the Department of American Studies, the John L. Warfield Center for African and African American Studies, the Department of History, the LBJ School of Public Affairs, the Texas Criminal Justice Coalition, the American Journal of Criminal Law, the Criminal Law Association, and the Thurgood Marshall Legal Society.
  </p>\n\nIf you need an accommodation to participate in this event, please contact the event sponsor or the Texas Law Special Events Office at specialevents@law.utexas.edu no later than seven business days prior to the event.
X-ALT-DESC;FMTTYPE=text/html:<p>Author Robert Perkinson talks about his book “Texas Tough: The Rise of America’s Prison Empire”</p>
  <p>Co-presented with the Institute for Historical Studies</p>
  <p>Co-sponsored by the Department of African and African Diaspora Studies, the Department of American Studies, the John L. Warfield Center for African and African American Studies, the Department of History, the LBJ School of Public Affairs, the Texas Criminal Justice Coalition, the American Journal of Criminal Law, the Criminal Law Association, and the Thurgood Marshall Legal Society.
  </p><p>If you need an accommodation to participate in this event, please contact the event
                                          event sponsor or the Texas Law Special Events Office at <a href="mailto:specialevents@law.utexas.edu">specialevents@law.utexas.edu</a> no later than seven business days prior to the event.</p>
CATEGORIES:Other
LOCATION:TNH 2.111 - Sheffield-Massey Room
URL:http://law.utexas.edu/calendar/2010/11/22/8879/
CLASS:PUBLIC
STATUS:CONFIRMED

END:VEVENT
END:VCALENDAR