BEGIN:VCALENDAR
VERSION:2.0
PRODID:-//UNIVERSITY OF TEXAS SCHOOL OF LAW//NONSGML Events Calendar v1.0//EN
X-WR-TIMEZONE:America/Chicago
BEGIN:VTIMEZONE
TZID:US/Central
X-LIC-LOCATION:America/Chicago
BEGIN:DAYLIGHT
TZOFFSETFROM:-0600
TZOFFSETTO:-0500
TZNAME:CDT
DTSTART:19700308T020000
RRULE:FREQ=YEARLY;BYMONTH=3;BYDAY=2SU
END:DAYLIGHT
BEGIN:STANDARD
TZOFFSETFROM:-0500
TZOFFSETTO:-0600
TZNAME:CST
DTSTART:19701101T020000
RRULE:FREQ=YEARLY;BYMONTH=11;BYDAY=1SU
END:STANDARD
END:VTIMEZONE
BEGIN:VEVENT
DTSTART;TZID=US/Central:20101206T120000
DTEND;VALUE=DATE-TIME;TZID=US/Central:20101206T150000

DTSTAMP:20260424T182400Z
CREATED:20101130T175300Z
LAST-MODIFIED:20101130T181500Z
UID:20101206T120000-9822@law.utexas.edu
SUMMARY:Perry v. Schwarzenegger oral arguments
DESCRIPTION:<p>Oral arguments in Kristin M. Perry, et al. v. Arnold Schwarzenegger, et al.  will be heard by a panel of three judges of the United States Court of Appeals for the Ninth Circuit on Monday, December 6, 2010, beginning at 10:00 a.m. Pacific time, noon Central. The panel has given consent for live broadcast of the proceeding and the Law School will make this broadcast available in room 5.206 of the Susman Academic Center in Jones Hall. Refreshments will be available.</p>\n\nIf you need an accommodation to participate in this event, please contact the event sponsor or the Texas Law Special Events Office at specialevents@law.utexas.edu no later than seven business days prior to the event.
X-ALT-DESC;FMTTYPE=text/html:<p>Oral arguments in Kristin M. Perry, et al. v. Arnold Schwarzenegger, et al.  will be heard by a panel of three judges of the United States Court of Appeals for the Ninth Circuit on Monday, December 6, 2010, beginning at 10:00 a.m. Pacific time, noon Central. The panel has given consent for live broadcast of the proceeding and the Law School will make this broadcast available in room 5.206 of the Susman Academic Center in Jones Hall. Refreshments will be available.</p><p>If you need an accommodation to participate in this event, please contact the event
                                          event sponsor or the Texas Law Special Events Office at <a href="mailto:specialevents@law.utexas.edu">specialevents@law.utexas.edu</a> no later than seven business days prior to the event.</p>
CATEGORIES:Other
LOCATION:JON 5.206 - Susman Academic Center, Bryan and Michelle Goolsby Conference Suite (5.206 / 5.207)
URL:http://law.utexas.edu/calendar/2010/12/06/9822/
CLASS:PUBLIC
STATUS:CONFIRMED

END:VEVENT
END:VCALENDAR