BEGIN:VCALENDAR
VERSION:2.0
PRODID:-//UNIVERSITY OF TEXAS SCHOOL OF LAW//NONSGML Events Calendar v1.0//EN
X-WR-TIMEZONE:America/Chicago
BEGIN:VTIMEZONE
TZID:US/Central
X-LIC-LOCATION:America/Chicago
BEGIN:DAYLIGHT
TZOFFSETFROM:-0600
TZOFFSETTO:-0500
TZNAME:CDT
DTSTART:19700308T020000
RRULE:FREQ=YEARLY;BYMONTH=3;BYDAY=2SU
END:DAYLIGHT
BEGIN:STANDARD
TZOFFSETFROM:-0500
TZOFFSETTO:-0600
TZNAME:CST
DTSTART:19701101T020000
RRULE:FREQ=YEARLY;BYMONTH=11;BYDAY=1SU
END:STANDARD
END:VTIMEZONE
BEGIN:VEVENT
DTSTART;TZID=US/Central:20101207T110000
DTEND;VALUE=DATE-TIME;TZID=US/Central:20101207T133000

DTSTAMP:20260424T182400Z
CREATED:20100824T203000Z
LAST-MODIFIED:20100910T175300Z
UID:20101207T110000-8796@law.utexas.edu
SUMMARY:Drawing Board Luncheon
DESCRIPTION:<p>The Drawing Board Luncheon is a regular colloquium series designed to permit members of the UT faculty (permanent and visiting) to present projects at an early stage of development. Unlike many colloquia series, here and elsewhere, that are often described as fora for the presentation of "works in progress" but which, in actuality, feature works that are entirely, or substantially, complete, the Drawing Board lives up to its name. This is a forum for faculty members who would like feedback, suggestions, and guidance at a point in time at which they can be made use of.</p>\n\nIf you need an accommodation to participate in this event, please contact the event sponsor or the Texas Law Special Events Office at specialevents@law.utexas.edu no later than seven business days prior to the event.
X-ALT-DESC;FMTTYPE=text/html:<p>The Drawing Board Luncheon is a regular colloquium series designed to permit members of the UT faculty (permanent and visiting) to present projects at an early stage of development. Unlike many colloquia series, here and elsewhere, that are often described as fora for the presentation of "works in progress" but which, in actuality, feature works that are entirely, or substantially, complete, the Drawing Board lives up to its name. This is a forum for faculty members who would like feedback, suggestions, and guidance at a point in time at which they can be made use of.</p><p>If you need an accommodation to participate in this event, please contact the event
                                          event sponsor or the Texas Law Special Events Office at <a href="mailto:specialevents@law.utexas.edu">specialevents@law.utexas.edu</a> no later than seven business days prior to the event.</p>

LOCATION:TNH 2.111 - Sheffield-Massey Room
URL:http://law.utexas.edu/calendar/2010/12/07/8796/
CLASS:PUBLIC
STATUS:CONFIRMED

END:VEVENT
END:VCALENDAR