BEGIN:VCALENDAR
VERSION:2.0
PRODID:-//UNIVERSITY OF TEXAS SCHOOL OF LAW//NONSGML Events Calendar v1.0//EN
X-WR-TIMEZONE:America/Chicago
BEGIN:VTIMEZONE
TZID:US/Central
X-LIC-LOCATION:America/Chicago
BEGIN:DAYLIGHT
TZOFFSETFROM:-0600
TZOFFSETTO:-0500
TZNAME:CDT
DTSTART:19700308T020000
RRULE:FREQ=YEARLY;BYMONTH=3;BYDAY=2SU
END:DAYLIGHT
BEGIN:STANDARD
TZOFFSETFROM:-0500
TZOFFSETTO:-0600
TZNAME:CST
DTSTART:19701101T020000
RRULE:FREQ=YEARLY;BYMONTH=11;BYDAY=1SU
END:STANDARD
END:VTIMEZONE
BEGIN:VEVENT
DTSTART;TZID=US/Central:20101220T120000
DTEND;TZID=US/Central:20101220T120000

DTSTAMP:20260424T182500Z
CREATED:20101104T200500Z
LAST-MODIFIED:20101104T200600Z
UID:20101220T000000-9522@law.utexas.edu
SUMMARY:Fall 2010 Pass/Fail Info. Due
DESCRIPTION:<p>This is the deadline for faculty to submit "pass" or "fail" information for all law students graduating in December 2010.
  </p>\n\nIf you need an accommodation to participate in this event, please contact the event sponsor or the Texas Law Special Events Office at specialevents@law.utexas.edu no later than seven business days prior to the event.
X-ALT-DESC;FMTTYPE=text/html:<p>This is the deadline for faculty to submit "pass" or "fail" information for all law students graduating in December 2010.
  </p><p>If you need an accommodation to participate in this event, please contact the event
                                          event sponsor or the Texas Law Special Events Office at <a href="mailto:specialevents@law.utexas.edu">specialevents@law.utexas.edu</a> no later than seven business days prior to the event.</p>


URL:http://law.utexas.edu/calendar/2010/12/20/9522/
CLASS:PUBLIC
STATUS:CONFIRMED
COMMENT:Email the Student Affairs Office (studentaffairs@law.utexas.edu)
END:VEVENT
END:VCALENDAR