BEGIN:VCALENDAR
VERSION:2.0
PRODID:-//UNIVERSITY OF TEXAS SCHOOL OF LAW//NONSGML Events Calendar v1.0//EN
X-WR-TIMEZONE:America/Chicago
BEGIN:VTIMEZONE
TZID:US/Central
X-LIC-LOCATION:America/Chicago
BEGIN:DAYLIGHT
TZOFFSETFROM:-0600
TZOFFSETTO:-0500
TZNAME:CDT
DTSTART:19700308T020000
RRULE:FREQ=YEARLY;BYMONTH=3;BYDAY=2SU
END:DAYLIGHT
BEGIN:STANDARD
TZOFFSETFROM:-0500
TZOFFSETTO:-0600
TZNAME:CST
DTSTART:19701101T020000
RRULE:FREQ=YEARLY;BYMONTH=11;BYDAY=1SU
END:STANDARD
END:VTIMEZONE
BEGIN:VEVENT
DTSTART;TZID=US/Central:20110114
DTEND;TZID=US/Central:20110115
X-MICROSOFT-CDO-ALLDAYEVENT:TRUE
X-FUNAMBOL-ALLDAY:TRUE
DTSTAMP:20260424T205300Z
CREATED:20101013T181700Z
LAST-MODIFIED:20101013T181700Z
UID:20110114T000000-9090@law.utexas.edu
SUMMARY:Diversity Weekend
DESCRIPTION:<p>The Law School will hold its Excellence in Diversity Celebration January 14-15 with Dean Larry Sager, Senator Rodney Ellis, '79, and students of the Asian Law Students Association, Chicano/Hispanic Law Students Association, and The Thurgood Marshall Legal Society. This event will be held at the AT&amp;T Executive Conference Center.</p>\n\nIf you need an accommodation to participate in this event, please contact the event sponsor or the Texas Law Special Events Office at specialevents@law.utexas.edu no later than seven business days prior to the event.
X-ALT-DESC;FMTTYPE=text/html:<p>The Law School will hold its Excellence in Diversity Celebration January 14-15 with Dean Larry Sager, Senator Rodney Ellis, '79, and students of the Asian Law Students Association, Chicano/Hispanic Law Students Association, and The Thurgood Marshall Legal Society. This event will be held at the AT&amp;T Executive Conference Center.</p><p>If you need an accommodation to participate in this event, please contact the event
                                          event sponsor or the Texas Law Special Events Office at <a href="mailto:specialevents@law.utexas.edu">specialevents@law.utexas.edu</a> no later than seven business days prior to the event.</p>
CATEGORIES:Other

URL:http://law.utexas.edu/calendar/2011/01/14/9090/
CLASS:PUBLIC
STATUS:CONFIRMED

END:VEVENT
END:VCALENDAR