BEGIN:VCALENDAR
VERSION:2.0
PRODID:-//UNIVERSITY OF TEXAS SCHOOL OF LAW//NONSGML Events Calendar v1.0//EN
X-WR-TIMEZONE:America/Chicago
BEGIN:VTIMEZONE
TZID:US/Central
X-LIC-LOCATION:America/Chicago
BEGIN:DAYLIGHT
TZOFFSETFROM:-0600
TZOFFSETTO:-0500
TZNAME:CDT
DTSTART:19700308T020000
RRULE:FREQ=YEARLY;BYMONTH=3;BYDAY=2SU
END:DAYLIGHT
BEGIN:STANDARD
TZOFFSETFROM:-0500
TZOFFSETTO:-0600
TZNAME:CST
DTSTART:19701101T020000
RRULE:FREQ=YEARLY;BYMONTH=11;BYDAY=1SU
END:STANDARD
END:VTIMEZONE
BEGIN:VEVENT
DTSTART;TZID=US/Central:20110114T120000


DTSTAMP:20260424T182300Z
CREATED:20101116T234700Z
LAST-MODIFIED:20101116T234700Z
UID:20110114T120000-9725@law.utexas.edu
SUMMARY:PSCD- Preselect Scheduling Begins
DESCRIPTION:<p>Preselected students may begin scheduling via the <a href="https://law-tx-csm.symplicity.com/students/">Texas Consortium Symplicity Module</a> for <a href="https://www.utexas.edu/law/career/fairs/pscd.html">Public Service Career Day (PSCD)</a>, which is the largest public service job fair for law students in Texas.</p>
  <p>Scheduling for preselected students ends on Monday, January 17, 2011 at noon. Alternate students may begin scheduling available interviews at 6 p.m. Alternate scheduling is on a first-come, first-served basis. 
  </p>\n\nIf you need an accommodation to participate in this event, please contact the event sponsor or the Texas Law Special Events Office at specialevents@law.utexas.edu no later than seven business days prior to the event.
X-ALT-DESC;FMTTYPE=text/html:<p>Preselected students may begin scheduling via the <a href="https://law-tx-csm.symplicity.com/students/">Texas Consortium Symplicity Module</a> for <a href="https://www.utexas.edu/law/career/fairs/pscd.html">Public Service Career Day (PSCD)</a>, which is the largest public service job fair for law students in Texas.</p>
  <p>Scheduling for preselected students ends on Monday, January 17, 2011 at noon. Alternate students may begin scheduling available interviews at 6 p.m. Alternate scheduling is on a first-come, first-served basis. 
  </p><p>If you need an accommodation to participate in this event, please contact the event
                                          event sponsor or the Texas Law Special Events Office at <a href="mailto:specialevents@law.utexas.edu">specialevents@law.utexas.edu</a> no later than seven business days prior to the event.</p>
CATEGORIES:Interview Program

URL:http://law.utexas.edu/calendar/2011/01/14/9725/
CLASS:PUBLIC
STATUS:CONFIRMED
COMMENT:Please contact Sandra Valencia at <a href="mailto:svalencia@law.utexas.edu">svalencia@law.utexas.edu</a> or 512-232-1161 in the CSO.
END:VEVENT
END:VCALENDAR