BEGIN:VCALENDAR
VERSION:2.0
PRODID:-//UNIVERSITY OF TEXAS SCHOOL OF LAW//NONSGML Events Calendar v1.0//EN
X-WR-TIMEZONE:America/Chicago
BEGIN:VTIMEZONE
TZID:US/Central
X-LIC-LOCATION:America/Chicago
BEGIN:DAYLIGHT
TZOFFSETFROM:-0600
TZOFFSETTO:-0500
TZNAME:CDT
DTSTART:19700308T020000
RRULE:FREQ=YEARLY;BYMONTH=3;BYDAY=2SU
END:DAYLIGHT
BEGIN:STANDARD
TZOFFSETFROM:-0500
TZOFFSETTO:-0600
TZNAME:CST
DTSTART:19701101T020000
RRULE:FREQ=YEARLY;BYMONTH=11;BYDAY=1SU
END:STANDARD
END:VTIMEZONE
BEGIN:VEVENT
DTSTART;TZID=US/Central:20110131T153000
DTEND;VALUE=DATE-TIME;TZID=US/Central:20110131T163000

DTSTAMP:20260424T182300Z
CREATED:20110124T231900Z
LAST-MODIFIED:20110125T002300Z
UID:20110131T153000-10464@law.utexas.edu
SUMMARY:LSRJ Meeting
DESCRIPTION:<p>LSRJ will meet on Mon. Jan 31, room 3.126, from 3:30-4:30pm.
  We will be discussing recent national and state legislative developments on Reproductive Justice issues, logistics for the upcoming Regional Conference, meeting times, and more. 
  For more detailed updates this semester make sure you are signed up on our Google Group. Email AmbrosiaOrtiz@gmail.com to be added. 
  As always, snacks will be provided and the company will not disappoint!</p>\n\nIf you need an accommodation to participate in this event, please contact the event sponsor or the Texas Law Special Events Office at specialevents@law.utexas.edu no later than seven business days prior to the event.
X-ALT-DESC;FMTTYPE=text/html:<p>LSRJ will meet on Mon. Jan 31, room 3.126, from 3:30-4:30pm.
  We will be discussing recent national and state legislative developments on Reproductive Justice issues, logistics for the upcoming Regional Conference, meeting times, and more. 
  For more detailed updates this semester make sure you are signed up on our Google Group. Email AmbrosiaOrtiz@gmail.com to be added. 
  As always, snacks will be provided and the company will not disappoint!</p><p>If you need an accommodation to participate in this event, please contact the event
                                          event sponsor or the Texas Law Special Events Office at <a href="mailto:specialevents@law.utexas.edu">specialevents@law.utexas.edu</a> no later than seven business days prior to the event.</p>
CATEGORIES:Meeting
LOCATION:TNH 3.126 - Ratliff Classroom
URL:http://law.utexas.edu/calendar/2011/01/31/10464/
CLASS:PUBLIC
STATUS:CONFIRMED

END:VEVENT
END:VCALENDAR