BEGIN:VCALENDAR
VERSION:2.0
PRODID:-//UNIVERSITY OF TEXAS SCHOOL OF LAW//NONSGML Events Calendar v1.0//EN
X-WR-TIMEZONE:America/Chicago
BEGIN:VTIMEZONE
TZID:US/Central
X-LIC-LOCATION:America/Chicago
BEGIN:DAYLIGHT
TZOFFSETFROM:-0600
TZOFFSETTO:-0500
TZNAME:CDT
DTSTART:19700308T020000
RRULE:FREQ=YEARLY;BYMONTH=3;BYDAY=2SU
END:DAYLIGHT
BEGIN:STANDARD
TZOFFSETFROM:-0500
TZOFFSETTO:-0600
TZNAME:CST
DTSTART:19701101T020000
RRULE:FREQ=YEARLY;BYMONTH=11;BYDAY=1SU
END:STANDARD
END:VTIMEZONE
BEGIN:VEVENT
DTSTART;TZID=US/Central:20110203T103000
DTEND;VALUE=DATE-TIME;TZID=US/Central:20110203T133000

DTSTAMP:20260424T155000Z
CREATED:20110114T012100Z
LAST-MODIFIED:20110127T224700Z
UID:20110203T103000-10267@law.utexas.edu
SUMMARY:Public Service Career Day Table Talk
DESCRIPTION:<p>During the first day of Public Service Career Day, representatives from public interest organizations, as well as federal, state and local government agencies will host informational tables, which provide an excellent opportunity for students to network and find out about current volunteer opportunities, summer internships and postgraduate positions.  All UT Law students are encouraged to stop by. Please be sure to bring a copy of your resume for <a href="https://www.utexas.edu/law/career/fairs/pscd_tabletalk.html">participating PSCD Table Talk employers</a> as they may request a copy.</p>\n\nIf you need an accommodation to participate in this event, please contact the event sponsor or the Texas Law Special Events Office at specialevents@law.utexas.edu no later than seven business days prior to the event.
X-ALT-DESC;FMTTYPE=text/html:<p>During the first day of Public Service Career Day, representatives from public interest organizations, as well as federal, state and local government agencies will host informational tables, which provide an excellent opportunity for students to network and find out about current volunteer opportunities, summer internships and postgraduate positions.  All UT Law students are encouraged to stop by. Please be sure to bring a copy of your resume for <a href="https://www.utexas.edu/law/career/fairs/pscd_tabletalk.html">participating PSCD Table Talk employers</a> as they may request a copy.</p><p>If you need an accommodation to participate in this event, please contact the event
                                          event sponsor or the Texas Law Special Events Office at <a href="mailto:specialevents@law.utexas.edu">specialevents@law.utexas.edu</a> no later than seven business days prior to the event.</p>
CATEGORIES:Interview Program
LOCATION:TNH 2.100 - Susman Godfrey Atrium
URL:http://law.utexas.edu/calendar/2011/02/03/10267/
CLASS:PUBLIC
STATUS:CONFIRMED
COMMENT:Please contact Sandra Valencia at <a href="mailto:svalencia@law.utexas.edu">svalencia@law.utexas.edu</a> or 512-232-1161 in the CSO.
END:VEVENT
END:VCALENDAR