BEGIN:VCALENDAR
VERSION:2.0
PRODID:-//UNIVERSITY OF TEXAS SCHOOL OF LAW//NONSGML Events Calendar v1.0//EN
X-WR-TIMEZONE:America/Chicago
BEGIN:VTIMEZONE
TZID:US/Central
X-LIC-LOCATION:America/Chicago
BEGIN:DAYLIGHT
TZOFFSETFROM:-0600
TZOFFSETTO:-0500
TZNAME:CDT
DTSTART:19700308T020000
RRULE:FREQ=YEARLY;BYMONTH=3;BYDAY=2SU
END:DAYLIGHT
BEGIN:STANDARD
TZOFFSETFROM:-0500
TZOFFSETTO:-0600
TZNAME:CST
DTSTART:19701101T020000
RRULE:FREQ=YEARLY;BYMONTH=11;BYDAY=1SU
END:STANDARD
END:VTIMEZONE
BEGIN:VEVENT
DTSTART;TZID=US/Central:20110203T173000
DTEND;VALUE=DATE-TIME;TZID=US/Central:20110203T181500

DTSTAMP:20260424T154800Z
CREATED:20110201T050100Z
LAST-MODIFIED:20110201T132800Z
UID:20110203T173000-10649@law.utexas.edu
SUMMARY:DVSSN Spring All-members Meeting
DESCRIPTION:<p>At this meeting:</p>
  <p>1) we will briefly talk about the help DVSSN has provided to survivors of domestic violence since last semester's wildly successful Pumpkins &amp; Poker poker tournament;
  2) we will talk about our up-coming Happy Hour fundraiser;
  3) we will discuss advocacy, education, and outreach projects that are coming down the pipe-line;
  4) we will ask for suggestions for this semester and beyond from all of you; and
  5) we will be available to discuss openings in the board for those students who are interested in helping lead DVSSN next semester.</p>
  <p>Thank you for all your help this Fall with Pumpkins &amp; Poker.  We look forward to another great semester, helping to close the gap for domestic violence survivors in need and promoting the field of domestic violence law.</p>\n\nIf you need an accommodation to participate in this event, please contact the event sponsor or the Texas Law Special Events Office at specialevents@law.utexas.edu no later than seven business days prior to the event.
X-ALT-DESC;FMTTYPE=text/html:<p>At this meeting:</p>
  <p>1) we will briefly talk about the help DVSSN has provided to survivors of domestic violence since last semester's wildly successful Pumpkins &amp; Poker poker tournament;
  2) we will talk about our up-coming Happy Hour fundraiser;
  3) we will discuss advocacy, education, and outreach projects that are coming down the pipe-line;
  4) we will ask for suggestions for this semester and beyond from all of you; and
  5) we will be available to discuss openings in the board for those students who are interested in helping lead DVSSN next semester.</p>
  <p>Thank you for all your help this Fall with Pumpkins &amp; Poker.  We look forward to another great semester, helping to close the gap for domestic violence survivors in need and promoting the field of domestic violence law.</p><p>If you need an accommodation to participate in this event, please contact the event
                                          event sponsor or the Texas Law Special Events Office at <a href="mailto:specialevents@law.utexas.edu">specialevents@law.utexas.edu</a> no later than seven business days prior to the event.</p>
CATEGORIES:Meeting
LOCATION:TNH 2.124 - Reaud Classroom
URL:http://law.utexas.edu/calendar/2011/02/03/10649/
CLASS:PUBLIC
STATUS:CONFIRMED

END:VEVENT
END:VCALENDAR