BEGIN:VCALENDAR
VERSION:2.0
PRODID:-//UNIVERSITY OF TEXAS SCHOOL OF LAW//NONSGML Events Calendar v1.0//EN
X-WR-TIMEZONE:America/Chicago
BEGIN:VTIMEZONE
TZID:US/Central
X-LIC-LOCATION:America/Chicago
BEGIN:DAYLIGHT
TZOFFSETFROM:-0600
TZOFFSETTO:-0500
TZNAME:CDT
DTSTART:19700308T020000
RRULE:FREQ=YEARLY;BYMONTH=3;BYDAY=2SU
END:DAYLIGHT
BEGIN:STANDARD
TZOFFSETFROM:-0500
TZOFFSETTO:-0600
TZNAME:CST
DTSTART:19701101T020000
RRULE:FREQ=YEARLY;BYMONTH=11;BYDAY=1SU
END:STANDARD
END:VTIMEZONE
BEGIN:VEVENT
DTSTART;TZID=US/Central:20110203T150000
DTEND;VALUE=DATE-TIME;TZID=US/Central:20110203T170000

DTSTAMP:20260424T154100Z
CREATED:20101123T215200Z
LAST-MODIFIED:20101129T193700Z
UID:20110203T150000-9782@law.utexas.edu
SUMMARY:Seventh Tarlton Annual Rare Books Lectur
DESCRIPTION:<p>Tarlton Law Library will be hosting the Seventh Annual Rare Books Lecture February 3, 2011.  Professor William Butler will be presenting a talk on the library of American Philosophical Society founder, Peter Stephen Du Ponceau. 2010 represented the 250 anniversary of the death of this fascinating lawyer and linguist.  Light refreshments will be served following the lecture.</p>\n\nIf you need an accommodation to participate in this event, please contact the event sponsor or the Texas Law Special Events Office at specialevents@law.utexas.edu no later than seven business days prior to the event.
X-ALT-DESC;FMTTYPE=text/html:<p>Tarlton Law Library will be hosting the Seventh Annual Rare Books Lecture February 3, 2011.  Professor William Butler will be presenting a talk on the library of American Philosophical Society founder, Peter Stephen Du Ponceau. 2010 represented the 250 anniversary of the death of this fascinating lawyer and linguist.  Light refreshments will be served following the lecture.</p><p>If you need an accommodation to participate in this event, please contact the event
                                          event sponsor or the Texas Law Special Events Office at <a href="mailto:specialevents@law.utexas.edu">specialevents@law.utexas.edu</a> no later than seven business days prior to the event.</p>
CATEGORIES:Panel Discussion / Speaker Series
LOCATION:TNH 2.111 - Sheffield-Massey Room
URL:http://law.utexas.edu/calendar/2011/02/03/9782/
CLASS:PUBLIC
STATUS:CONFIRMED

END:VEVENT
END:VCALENDAR