BEGIN:VCALENDAR
VERSION:2.0
PRODID:-//UNIVERSITY OF TEXAS SCHOOL OF LAW//NONSGML Events Calendar v1.0//EN
X-WR-TIMEZONE:America/Chicago
BEGIN:VTIMEZONE
TZID:US/Central
X-LIC-LOCATION:America/Chicago
BEGIN:DAYLIGHT
TZOFFSETFROM:-0600
TZOFFSETTO:-0500
TZNAME:CDT
DTSTART:19700308T020000
RRULE:FREQ=YEARLY;BYMONTH=3;BYDAY=2SU
END:DAYLIGHT
BEGIN:STANDARD
TZOFFSETFROM:-0500
TZOFFSETTO:-0600
TZNAME:CST
DTSTART:19701101T020000
RRULE:FREQ=YEARLY;BYMONTH=11;BYDAY=1SU
END:STANDARD
END:VTIMEZONE
BEGIN:VEVENT
DTSTART;TZID=US/Central:20110204
DTEND;TZID=US/Central:20110205
X-MICROSOFT-CDO-ALLDAYEVENT:TRUE
X-FUNAMBOL-ALLDAY:TRUE
DTSTAMP:20260424T154100Z
CREATED:20101011T205600Z
LAST-MODIFIED:20110204T121100Z
UID:20110204T090000-9085@law.utexas.edu
SUMMARY:Cancelled: PSCD Day II
DESCRIPTION:<p>Hosted annually by the UT Law Career Services Office, <a href="https://www.utexas.edu/law/career/fairs/pscd.html">Public Service Career Day (PSCD)</a> is the largest public service job fair for law students in Texas. During both days of PSCD, which will be held February 3-4, 2011, public interest and government employers will conduct on-campus interviews for paid and unpaid summer and permanent positions in the Career Services Interview Suite and elsewhere in the Law School. </p>
  <p>First, second, third-year and/or LL.M. students and alumni up to one year after graduation from all nine Texas law schools are eligible to participate in this program. You must register to use the Texas Consortium Symplicity Module, which is a different module than the UT Law Symplicity. 
  </p>\n\nIf you need an accommodation to participate in this event, please contact the event sponsor or the Texas Law Special Events Office at specialevents@law.utexas.edu no later than seven business days prior to the event.
X-ALT-DESC;FMTTYPE=text/html:<p>Hosted annually by the UT Law Career Services Office, <a href="https://www.utexas.edu/law/career/fairs/pscd.html">Public Service Career Day (PSCD)</a> is the largest public service job fair for law students in Texas. During both days of PSCD, which will be held February 3-4, 2011, public interest and government employers will conduct on-campus interviews for paid and unpaid summer and permanent positions in the Career Services Interview Suite and elsewhere in the Law School. </p>
  <p>First, second, third-year and/or LL.M. students and alumni up to one year after graduation from all nine Texas law schools are eligible to participate in this program. You must register to use the Texas Consortium Symplicity Module, which is a different module than the UT Law Symplicity. 
  </p><p>If you need an accommodation to participate in this event, please contact the event
                                          event sponsor or the Texas Law Special Events Office at <a href="mailto:specialevents@law.utexas.edu">specialevents@law.utexas.edu</a> no later than seven business days prior to the event.</p>
CATEGORIES:Interview Program
LOCATION:
URL:http://law.utexas.edu/calendar/2011/02/04/9085/
CLASS:PUBLIC
STATUS:CONFIRMED
COMMENT:Please contact Sandra Valencia at <a href="mailto:svalencia@law.utexas.edu">svalencia@law.utexas.edu</a> or 512-232-1161 in the CSO.
END:VEVENT
END:VCALENDAR