BEGIN:VCALENDAR
VERSION:2.0
PRODID:-//UNIVERSITY OF TEXAS SCHOOL OF LAW//NONSGML Events Calendar v1.0//EN
X-WR-TIMEZONE:America/Chicago
BEGIN:VTIMEZONE
TZID:US/Central
X-LIC-LOCATION:America/Chicago
BEGIN:DAYLIGHT
TZOFFSETFROM:-0600
TZOFFSETTO:-0500
TZNAME:CDT
DTSTART:19700308T020000
RRULE:FREQ=YEARLY;BYMONTH=3;BYDAY=2SU
END:DAYLIGHT
BEGIN:STANDARD
TZOFFSETFROM:-0500
TZOFFSETTO:-0600
TZNAME:CST
DTSTART:19701101T020000
RRULE:FREQ=YEARLY;BYMONTH=11;BYDAY=1SU
END:STANDARD
END:VTIMEZONE
BEGIN:VEVENT
DTSTART;TZID=US/Central:20110208T123000
DTEND;VALUE=DATE-TIME;TZID=US/Central:20110208T170000

DTSTAMP:20260424T154100Z
CREATED:20110110T180300Z
LAST-MODIFIED:20110110T182500Z
UID:20110208T123000-10205@law.utexas.edu
SUMMARY:TxCCSA Conference
DESCRIPTION:<p>The Texas Carbon Capture and Storage Assocation hosts a pre-conference workshop ahead of UT's Carbon and Climate Change Conference (February 9-10, 2011).</p>\n\nIf you need an accommodation to participate in this event, please contact the event sponsor or the Texas Law Special Events Office at specialevents@law.utexas.edu no later than seven business days prior to the event.
X-ALT-DESC;FMTTYPE=text/html:<p>The Texas Carbon Capture and Storage Assocation hosts a pre-conference workshop ahead of UT's Carbon and Climate Change Conference (February 9-10, 2011).</p><p>If you need an accommodation to participate in this event, please contact the event
                                          event sponsor or the Texas Law Special Events Office at <a href="mailto:specialevents@law.utexas.edu">specialevents@law.utexas.edu</a> no later than seven business days prior to the event.</p>
CATEGORIES:Other
LOCATION:AT&T Conference Center
URL:http://law.utexas.edu/calendar/2011/02/08/10205/
CLASS:PUBLIC
STATUS:CONFIRMED
COMMENT:http://www.utcle.org 512-475-6700
END:VEVENT
END:VCALENDAR