BEGIN:VCALENDAR
VERSION:2.0
PRODID:-//UNIVERSITY OF TEXAS SCHOOL OF LAW//NONSGML Events Calendar v1.0//EN
X-WR-TIMEZONE:America/Chicago
BEGIN:VTIMEZONE
TZID:US/Central
X-LIC-LOCATION:America/Chicago
BEGIN:DAYLIGHT
TZOFFSETFROM:-0600
TZOFFSETTO:-0500
TZNAME:CDT
DTSTART:19700308T020000
RRULE:FREQ=YEARLY;BYMONTH=3;BYDAY=2SU
END:DAYLIGHT
BEGIN:STANDARD
TZOFFSETFROM:-0500
TZOFFSETTO:-0600
TZNAME:CST
DTSTART:19701101T020000
RRULE:FREQ=YEARLY;BYMONTH=11;BYDAY=1SU
END:STANDARD
END:VTIMEZONE
BEGIN:VEVENT
DTSTART;TZID=US/Central:20110208T113000
DTEND;VALUE=DATE-TIME;TZID=US/Central:20110208T123000

DTSTAMP:20260424T170100Z
CREATED:20110114T011300Z
LAST-MODIFIED:20110114T181600Z
UID:20110208T113000-10266@law.utexas.edu
SUMMARY:Law Firm Interviewing Tips
DESCRIPTION:<p>Learn what to expect in a law firm interview by listening to a candid discussion about interviewing with <a href="http://www.gardere.com/Attorneys/Attorney_Bio/?id=453">Michael Newman, '95, Partner at Gardere (Dallas)</a> and <a href="http://www.cb-firm.com/Bios/SES.htm">Susan Salch ’94, Partner at Cantilo &amp; Bennett, L.L.P. (Austin)</a>.  They will discuss interviewing strategies and the do's and don'ts of law firm interviewing. Lunch will be served. Sponsored by Gardere. RSVP by Monday, February 7, on <a href="https://law-utexas-csm.symplicity.com/students/">UT Law Symplicity</a> by selecting the “Events” tab. </p>\n\nIf you need an accommodation to participate in this event, please contact the event sponsor or the Texas Law Special Events Office at specialevents@law.utexas.edu no later than seven business days prior to the event.
X-ALT-DESC;FMTTYPE=text/html:<p>Learn what to expect in a law firm interview by listening to a candid discussion about interviewing with <a href="http://www.gardere.com/Attorneys/Attorney_Bio/?id=453">Michael Newman, '95, Partner at Gardere (Dallas)</a> and <a href="http://www.cb-firm.com/Bios/SES.htm">Susan Salch ’94, Partner at Cantilo &amp; Bennett, L.L.P. (Austin)</a>.  They will discuss interviewing strategies and the do's and don'ts of law firm interviewing. Lunch will be served. Sponsored by Gardere. RSVP by Monday, February 7, on <a href="https://law-utexas-csm.symplicity.com/students/">UT Law Symplicity</a> by selecting the “Events” tab. </p><p>If you need an accommodation to participate in this event, please contact the event
                                          event sponsor or the Texas Law Special Events Office at <a href="mailto:specialevents@law.utexas.edu">specialevents@law.utexas.edu</a> no later than seven business days prior to the event.</p>
CATEGORIES:Workshop / Training Program
LOCATION:TNH 2.114 - Francis Auditorium
URL:http://law.utexas.edu/calendar/2011/02/08/10266/
CLASS:PUBLIC
STATUS:CONFIRMED
COMMENT:Please contact Simone Leavenworth at <a href="mailto:sleavenworth@law.utexas.edu">sleavenworth@law.utexas.edu</a> in the CSO.
END:VEVENT
END:VCALENDAR