BEGIN:VCALENDAR
VERSION:2.0
PRODID:-//UNIVERSITY OF TEXAS SCHOOL OF LAW//NONSGML Events Calendar v1.0//EN
X-WR-TIMEZONE:America/Chicago
BEGIN:VTIMEZONE
TZID:US/Central
X-LIC-LOCATION:America/Chicago
BEGIN:DAYLIGHT
TZOFFSETFROM:-0600
TZOFFSETTO:-0500
TZNAME:CDT
DTSTART:19700308T020000
RRULE:FREQ=YEARLY;BYMONTH=3;BYDAY=2SU
END:DAYLIGHT
BEGIN:STANDARD
TZOFFSETFROM:-0500
TZOFFSETTO:-0600
TZNAME:CST
DTSTART:19701101T020000
RRULE:FREQ=YEARLY;BYMONTH=11;BYDAY=1SU
END:STANDARD
END:VTIMEZONE
BEGIN:VEVENT
DTSTART;TZID=US/Central:20110208T173000
DTEND;VALUE=DATE-TIME;TZID=US/Central:20110208T183000

DTSTAMP:20260424T182400Z
CREATED:20110114T013700Z
LAST-MODIFIED:20110120T162300Z
UID:20110208T173000-10268@law.utexas.edu
SUMMARY:Applying for Judicial Clerkships-Part I
DESCRIPTION:<p>This is the first of two mandatory meetings for 2Ls &amp; 3Ls who will be applying for judicial clerkships. UT Law Judicial Clerkship Advisors will discuss how to determine what courts you are competitive for, how to select judges, and how and when to apply for clerkships. </p>
  <p>3Ls: For those of you who have already applied for clerkships, you do not need to attend this meeting. You should speak to your recommenders by late March to reaffirm their willingness to write letters or seek out new recommenders. You do not need to meet with a clerkship advisor unless you want to. However, you must attend the second mandatory meeting on April 5, 2011 to learn about the new application process.
  </p>\n\nIf you need an accommodation to participate in this event, please contact the event sponsor or the Texas Law Special Events Office at specialevents@law.utexas.edu no later than seven business days prior to the event.
X-ALT-DESC;FMTTYPE=text/html:<p>This is the first of two mandatory meetings for 2Ls &amp; 3Ls who will be applying for judicial clerkships. UT Law Judicial Clerkship Advisors will discuss how to determine what courts you are competitive for, how to select judges, and how and when to apply for clerkships. </p>
  <p>3Ls: For those of you who have already applied for clerkships, you do not need to attend this meeting. You should speak to your recommenders by late March to reaffirm their willingness to write letters or seek out new recommenders. You do not need to meet with a clerkship advisor unless you want to. However, you must attend the second mandatory meeting on April 5, 2011 to learn about the new application process.
  </p><p>If you need an accommodation to participate in this event, please contact the event
                                          event sponsor or the Texas Law Special Events Office at <a href="mailto:specialevents@law.utexas.edu">specialevents@law.utexas.edu</a> no later than seven business days prior to the event.</p>
CATEGORIES:Workshop / Training Program
LOCATION:CCJ 2.306 - Eidman Courtroom
URL:http://law.utexas.edu/calendar/2011/02/08/10268/
CLASS:PUBLIC
STATUS:CONFIRMED
COMMENT:Please contact Remi Ratliff at <a href="mailto:rrattliff@law.utexas.edu">rratliff@law.utexas.edu</a> in the CSO.
END:VEVENT
END:VCALENDAR