BEGIN:VCALENDAR
VERSION:2.0
PRODID:-//UNIVERSITY OF TEXAS SCHOOL OF LAW//NONSGML Events Calendar v1.0//EN
X-WR-TIMEZONE:America/Chicago
BEGIN:VTIMEZONE
TZID:US/Central
X-LIC-LOCATION:America/Chicago
BEGIN:DAYLIGHT
TZOFFSETFROM:-0600
TZOFFSETTO:-0500
TZNAME:CDT
DTSTART:19700308T020000
RRULE:FREQ=YEARLY;BYMONTH=3;BYDAY=2SU
END:DAYLIGHT
BEGIN:STANDARD
TZOFFSETFROM:-0500
TZOFFSETTO:-0600
TZNAME:CST
DTSTART:19701101T020000
RRULE:FREQ=YEARLY;BYMONTH=11;BYDAY=1SU
END:STANDARD
END:VTIMEZONE
BEGIN:VEVENT
DTSTART;TZID=US/Central:20110208T153000
DTEND;VALUE=DATE-TIME;TZID=US/Central:20110208T163000

DTSTAMP:20260424T154800Z
CREATED:20110207T154900Z
LAST-MODIFIED:20110207T154900Z
UID:20110208T153000-10703@law.utexas.edu
SUMMARY:Texas BLE at UT Law
DESCRIPTION:<p>Julia Vaughan, Executive Director of the Texas Board of Law Examiners, will be at UT Law on Tuesday, February 8 at 3:30 pm in the TNH 3.142.  Ms. Vaughan will provide an overview of the Texas Bar Exam and the resources available to students to aid in preparation.  3L’s planning on taking the Texas Bar will find this session very informative.</p>\n\nIf you need an accommodation to participate in this event, please contact the event sponsor or the Texas Law Special Events Office at specialevents@law.utexas.edu no later than seven business days prior to the event.
X-ALT-DESC;FMTTYPE=text/html:<p>Julia Vaughan, Executive Director of the Texas Board of Law Examiners, will be at UT Law on Tuesday, February 8 at 3:30 pm in the TNH 3.142.  Ms. Vaughan will provide an overview of the Texas Bar Exam and the resources available to students to aid in preparation.  3L’s planning on taking the Texas Bar will find this session very informative.</p><p>If you need an accommodation to participate in this event, please contact the event
                                          event sponsor or the Texas Law Special Events Office at <a href="mailto:specialevents@law.utexas.edu">specialevents@law.utexas.edu</a> no later than seven business days prior to the event.</p>
CATEGORIES:Workshop / Training Program
LOCATION:TNH 3.142 - Walker Classroom
URL:http://law.utexas.edu/calendar/2011/02/08/10703/
CLASS:PUBLIC
STATUS:CONFIRMED

END:VEVENT
END:VCALENDAR