BEGIN:VCALENDAR
VERSION:2.0
PRODID:-//UNIVERSITY OF TEXAS SCHOOL OF LAW//NONSGML Events Calendar v1.0//EN
X-WR-TIMEZONE:America/Chicago
BEGIN:VTIMEZONE
TZID:US/Central
X-LIC-LOCATION:America/Chicago
BEGIN:DAYLIGHT
TZOFFSETFROM:-0600
TZOFFSETTO:-0500
TZNAME:CDT
DTSTART:19700308T020000
RRULE:FREQ=YEARLY;BYMONTH=3;BYDAY=2SU
END:DAYLIGHT
BEGIN:STANDARD
TZOFFSETFROM:-0500
TZOFFSETTO:-0600
TZNAME:CST
DTSTART:19701101T020000
RRULE:FREQ=YEARLY;BYMONTH=11;BYDAY=1SU
END:STANDARD
END:VTIMEZONE
BEGIN:VEVENT
DTSTART;TZID=US/Central:20110208T110000
DTEND;VALUE=DATE-TIME;TZID=US/Central:20110208T130000

DTSTAMP:20260424T154700Z
CREATED:20110207T180900Z
LAST-MODIFIED:20110207T184300Z
UID:20110208T110000-10715@law.utexas.edu
SUMMARY:Phi Delta Phi Membership Drive
DESCRIPTION:<p>PDP is an international legal fraternity, focused on ethics, service, and academic excellence. Founded in 1869, its members have included William Rehnquist, Sandra Day O’Connor, Thurgood Marshall, and Franklin Roosevelt. At UT Law, we offer scholarship opportunities, host social events, and organize service projects. We are currently recruiting new members. Look for our table in the Atrium February 8-10. Applications are due by 5 pm, February 15. Membership requires a 3.35 GPA.</p>\n\nIf you need an accommodation to participate in this event, please contact the event sponsor or the Texas Law Special Events Office at specialevents@law.utexas.edu no later than seven business days prior to the event.
X-ALT-DESC;FMTTYPE=text/html:<p>PDP is an international legal fraternity, focused on ethics, service, and academic excellence. Founded in 1869, its members have included William Rehnquist, Sandra Day O’Connor, Thurgood Marshall, and Franklin Roosevelt. At UT Law, we offer scholarship opportunities, host social events, and organize service projects. We are currently recruiting new members. Look for our table in the Atrium February 8-10. Applications are due by 5 pm, February 15. Membership requires a 3.35 GPA.</p><p>If you need an accommodation to participate in this event, please contact the event
                                          event sponsor or the Texas Law Special Events Office at <a href="mailto:specialevents@law.utexas.edu">specialevents@law.utexas.edu</a> no later than seven business days prior to the event.</p>

LOCATION:TNH 2.100 - Susman Godfrey Atrium
URL:http://law.utexas.edu/calendar/2011/02/08/10715/
CLASS:PUBLIC
STATUS:CONFIRMED

END:VEVENT
END:VCALENDAR