BEGIN:VCALENDAR
VERSION:2.0
PRODID:-//UNIVERSITY OF TEXAS SCHOOL OF LAW//NONSGML Events Calendar v1.0//EN
X-WR-TIMEZONE:America/Chicago
BEGIN:VTIMEZONE
TZID:US/Central
X-LIC-LOCATION:America/Chicago
BEGIN:DAYLIGHT
TZOFFSETFROM:-0600
TZOFFSETTO:-0500
TZNAME:CDT
DTSTART:19700308T020000
RRULE:FREQ=YEARLY;BYMONTH=3;BYDAY=2SU
END:DAYLIGHT
BEGIN:STANDARD
TZOFFSETFROM:-0500
TZOFFSETTO:-0600
TZNAME:CST
DTSTART:19701101T020000
RRULE:FREQ=YEARLY;BYMONTH=11;BYDAY=1SU
END:STANDARD
END:VTIMEZONE
BEGIN:VEVENT
DTSTART;TZID=US/Central:20110209T153000
DTEND;VALUE=DATE-TIME;TZID=US/Central:20110209T163000

DTSTAMP:20260424T193700Z
CREATED:20110207T155400Z
LAST-MODIFIED:20110207T155400Z
UID:20110209T153000-10705@law.utexas.edu
SUMMARY:Early Bar Prep - Intro to the Bar Exam
DESCRIPTION:<p>This first session of the Early Bar Preparation Series will introduce 3L's to the structure of most state bars, and will also address the Multistate Performance Test (MPT) which is a part of many bar exams.  Students can easily begin practicing MPTs NOW in order to be ready for the bar exam in July.</p>\n\nIf you need an accommodation to participate in this event, please contact the event sponsor or the Texas Law Special Events Office at specialevents@law.utexas.edu no later than seven business days prior to the event.
X-ALT-DESC;FMTTYPE=text/html:<p>This first session of the Early Bar Preparation Series will introduce 3L's to the structure of most state bars, and will also address the Multistate Performance Test (MPT) which is a part of many bar exams.  Students can easily begin practicing MPTs NOW in order to be ready for the bar exam in July.</p><p>If you need an accommodation to participate in this event, please contact the event
                                          event sponsor or the Texas Law Special Events Office at <a href="mailto:specialevents@law.utexas.edu">specialevents@law.utexas.edu</a> no later than seven business days prior to the event.</p>
CATEGORIES:Workshop / Training Program
LOCATION:TNH 2.137 - Gayle Classroom
URL:http://law.utexas.edu/calendar/2011/02/09/10705/
CLASS:PUBLIC
STATUS:CONFIRMED

END:VEVENT
END:VCALENDAR