BEGIN:VCALENDAR
VERSION:2.0
PRODID:-//UNIVERSITY OF TEXAS SCHOOL OF LAW//NONSGML Events Calendar v1.0//EN
X-WR-TIMEZONE:America/Chicago
BEGIN:VTIMEZONE
TZID:US/Central
X-LIC-LOCATION:America/Chicago
BEGIN:DAYLIGHT
TZOFFSETFROM:-0600
TZOFFSETTO:-0500
TZNAME:CDT
DTSTART:19700308T020000
RRULE:FREQ=YEARLY;BYMONTH=3;BYDAY=2SU
END:DAYLIGHT
BEGIN:STANDARD
TZOFFSETFROM:-0500
TZOFFSETTO:-0600
TZNAME:CST
DTSTART:19701101T020000
RRULE:FREQ=YEARLY;BYMONTH=11;BYDAY=1SU
END:STANDARD
END:VTIMEZONE
BEGIN:VEVENT
DTSTART;TZID=US/Central:20110211
DTEND;TZID=US/Central:20110212
X-MICROSOFT-CDO-ALLDAYEVENT:TRUE
X-FUNAMBOL-ALLDAY:TRUE
DTSTAMP:20260424T155000Z
CREATED:20110205T154500Z
LAST-MODIFIED:20110206T222100Z
UID:20110211T083000-10683@law.utexas.edu
SUMMARY:TILJ Symposium
DESCRIPTION:<p>The Texas International Law Journal will hold its annual symposium February 10-11th. The topic is the new Air and Missile Warfare Manual, and Ambassador Henry Crumpton, former Coordinator for Counterterrorism, will deliver the keynote address at 5 pm, Thursday evening, in the Bass Lecture Hall at the LBJ School for Public Affairs. Students and faculty are invited to both the keynote and the panel discussions on Friday. The panel discussions are all day Friday in the Room 3.102 of the Thompson Conference Center. If you have any questions, please email Leigh Orliner at leigh.orliner@gmail.com or check the TILJ website (<a href="http://www.tilj.org/symposium/">http://www.tilj.org/symposium/</a>).</p>\n\nIf you need an accommodation to participate in this event, please contact the event sponsor or the Texas Law Special Events Office at specialevents@law.utexas.edu no later than seven business days prior to the event.
X-ALT-DESC;FMTTYPE=text/html:<p>The Texas International Law Journal will hold its annual symposium February 10-11th. The topic is the new Air and Missile Warfare Manual, and Ambassador Henry Crumpton, former Coordinator for Counterterrorism, will deliver the keynote address at 5 pm, Thursday evening, in the Bass Lecture Hall at the LBJ School for Public Affairs. Students and faculty are invited to both the keynote and the panel discussions on Friday. The panel discussions are all day Friday in the Room 3.102 of the Thompson Conference Center. If you have any questions, please email Leigh Orliner at leigh.orliner@gmail.com or check the TILJ website (<a href="http://www.tilj.org/symposium/">http://www.tilj.org/symposium/</a>).</p><p>If you need an accommodation to participate in this event, please contact the event
                                          event sponsor or the Texas Law Special Events Office at <a href="mailto:specialevents@law.utexas.edu">specialevents@law.utexas.edu</a> no later than seven business days prior to the event.</p>
CATEGORIES:Symposium
LOCATION:Thompson Conference Center, Room 3.102
URL:http://law.utexas.edu/calendar/2011/02/11/10683/
CLASS:PUBLIC
STATUS:CONFIRMED

END:VEVENT
END:VCALENDAR