BEGIN:VCALENDAR
VERSION:2.0
PRODID:-//UNIVERSITY OF TEXAS SCHOOL OF LAW//NONSGML Events Calendar v1.0//EN
X-WR-TIMEZONE:America/Chicago
BEGIN:VTIMEZONE
TZID:US/Central
X-LIC-LOCATION:America/Chicago
BEGIN:DAYLIGHT
TZOFFSETFROM:-0600
TZOFFSETTO:-0500
TZNAME:CDT
DTSTART:19700308T020000
RRULE:FREQ=YEARLY;BYMONTH=3;BYDAY=2SU
END:DAYLIGHT
BEGIN:STANDARD
TZOFFSETFROM:-0500
TZOFFSETTO:-0600
TZNAME:CST
DTSTART:19701101T020000
RRULE:FREQ=YEARLY;BYMONTH=11;BYDAY=1SU
END:STANDARD
END:VTIMEZONE
BEGIN:VEVENT
DTSTART;TZID=US/Central:20110215T090000
DTEND;VALUE=DATE-TIME;TZID=US/Central:20110215T140000

DTSTAMP:20260424T154100Z
CREATED:20110106T151200Z
LAST-MODIFIED:20110114T172600Z
UID:20110215T090000-10163@law.utexas.edu
SUMMARY:UT Law Academy
DESCRIPTION:<p>The Law Academy is held annually in conjunction with and sponsored by the Law School Admission Council’s (LSAC) for DiscoverLaw.org Month.  </p>
  <p>The Law Academy is designed to introduce historically underrepresented minority groups and socio-economically disadvantaged high school students the legal profession and higher education in general.</p>
  <p>The high school students will partake in a mock class taught by a UT Law faculty member, a mock trial presented by current UT Law students, lunch, and a video produced by the Texas Young Lawyers Association.
  </p>\n\nIf you need an accommodation to participate in this event, please contact the event sponsor or the Texas Law Special Events Office at specialevents@law.utexas.edu no later than seven business days prior to the event.
X-ALT-DESC;FMTTYPE=text/html:<p>The Law Academy is held annually in conjunction with and sponsored by the Law School Admission Council’s (LSAC) for DiscoverLaw.org Month.  </p>
  <p>The Law Academy is designed to introduce historically underrepresented minority groups and socio-economically disadvantaged high school students the legal profession and higher education in general.</p>
  <p>The high school students will partake in a mock class taught by a UT Law faculty member, a mock trial presented by current UT Law students, lunch, and a video produced by the Texas Young Lawyers Association.
  </p><p>If you need an accommodation to participate in this event, please contact the event
                                          event sponsor or the Texas Law Special Events Office at <a href="mailto:specialevents@law.utexas.edu">specialevents@law.utexas.edu</a> no later than seven business days prior to the event.</p>


URL:http://law.utexas.edu/calendar/2011/02/15/10163/
CLASS:PUBLIC
STATUS:CONFIRMED
COMMENT:sriley@law.utexas.edu
END:VEVENT
END:VCALENDAR