BEGIN:VCALENDAR
VERSION:2.0
PRODID:-//UNIVERSITY OF TEXAS SCHOOL OF LAW//NONSGML Events Calendar v1.0//EN
X-WR-TIMEZONE:America/Chicago
BEGIN:VTIMEZONE
TZID:US/Central
X-LIC-LOCATION:America/Chicago
BEGIN:DAYLIGHT
TZOFFSETFROM:-0600
TZOFFSETTO:-0500
TZNAME:CDT
DTSTART:19700308T020000
RRULE:FREQ=YEARLY;BYMONTH=3;BYDAY=2SU
END:DAYLIGHT
BEGIN:STANDARD
TZOFFSETFROM:-0500
TZOFFSETTO:-0600
TZNAME:CST
DTSTART:19701101T020000
RRULE:FREQ=YEARLY;BYMONTH=11;BYDAY=1SU
END:STANDARD
END:VTIMEZONE
BEGIN:VEVENT
DTSTART;TZID=US/Central:20110216T150000
DTEND;VALUE=DATE-TIME;TZID=US/Central:20110216T180000

DTSTAMP:20260424T182400Z
CREATED:20110130T231700Z
LAST-MODIFIED:20110202T181500Z
UID:20110216T150000-10644@law.utexas.edu
SUMMARY:Presumed Guilty- Film
DESCRIPTION:<p>PILA's 2011 Symposium will examine the intersection of legal advocacy and filmmaking. Events will focus on how lawyers can utilize documentary media to supplement and promote traditional courtroom advocacy. The Symposium will show three documentaries and have related discussions on how these films advance the social justice movements involved. 
  </p>\n\nIf you need an accommodation to participate in this event, please contact the event sponsor or the Texas Law Special Events Office at specialevents@law.utexas.edu no later than seven business days prior to the event.
X-ALT-DESC;FMTTYPE=text/html:<p>PILA's 2011 Symposium will examine the intersection of legal advocacy and filmmaking. Events will focus on how lawyers can utilize documentary media to supplement and promote traditional courtroom advocacy. The Symposium will show three documentaries and have related discussions on how these films advance the social justice movements involved. 
  </p><p>If you need an accommodation to participate in this event, please contact the event
                                          event sponsor or the Texas Law Special Events Office at <a href="mailto:specialevents@law.utexas.edu">specialevents@law.utexas.edu</a> no later than seven business days prior to the event.</p>

LOCATION:TNH 2.114 - Francis Auditorium
URL:http://law.utexas.edu/calendar/2011/02/16/10644/
CLASS:PUBLIC
STATUS:CONFIRMED

END:VEVENT
END:VCALENDAR