BEGIN:VCALENDAR
VERSION:2.0
PRODID:-//UNIVERSITY OF TEXAS SCHOOL OF LAW//NONSGML Events Calendar v1.0//EN
X-WR-TIMEZONE:America/Chicago
BEGIN:VTIMEZONE
TZID:US/Central
X-LIC-LOCATION:America/Chicago
BEGIN:DAYLIGHT
TZOFFSETFROM:-0600
TZOFFSETTO:-0500
TZNAME:CDT
DTSTART:19700308T020000
RRULE:FREQ=YEARLY;BYMONTH=3;BYDAY=2SU
END:DAYLIGHT
BEGIN:STANDARD
TZOFFSETFROM:-0500
TZOFFSETTO:-0600
TZNAME:CST
DTSTART:19701101T020000
RRULE:FREQ=YEARLY;BYMONTH=11;BYDAY=1SU
END:STANDARD
END:VTIMEZONE
BEGIN:VEVENT
DTSTART;TZID=US/Central:20110218T080000
DTEND;VALUE=DATE-TIME;TZID=US/Central:20110218T170000

DTSTAMP:20260424T154800Z
CREATED:20110203T171900Z
LAST-MODIFIED:20110209T190900Z
UID:20110218T080000-10673@law.utexas.edu
SUMMARY:TIPLJ Symposium
DESCRIPTION:<p>8:30am-8:45am
  Opening Remarks
  Catherine Garza, TIPLJ Editor-in-Chief</p>
  <p>8:45am-9:15am
  Presentation: IP Issues in the Cloud
  Bart Showalter, Partner, Baker Botts LLP</p>
  <p>9:15am-10:15am
  Presentation: Ethics in Patent Law
  David Hricik, Professor, Mercer University School of Law</p>
  <p>10:30am-11:15am
  Morning Break</p>
  <p>10:30am-11:15am
  Panel: 
  Enforcing Patent Judgments in light of Tivo v. Echostar
  Moderator: 
  Robert Bone, Professor, University of Texas School of Law</p>
  <p>Panelists: 
  Stephen Hash, Partner, Vinson &amp; Elkins LLP
  Magistrate Judge Chad Everingham
  United States District Court, Eastern District of Texas
  Joseph Farnan, Jr., Farnan LLP </p>
  <p>11:15am-11:45am
  Presentation: Trademarks and Search Engines 
  Larry Waks, Partner, Jackson Walker LLP</p>
  <p>11:45am-1:00pm
  Lunch</p>
  <p>12:00pm-12:30pm
  Presentation: Copyright and Mass-Market Contracts
  James Gibson, Professor, University of Richmond School of Law</p>
  <p>12:30pm-1:00pm
  Presentation: Soul of Creativity: 
  Forging a Moral Rights Law for the U.S.
  Roberta Kwall, Professor, DePaul University College of Law</p>
  <p>1:00pm-1:30pm
  Presentation: 
  Proving Reasonable Royalty Damages
  Charles Walker, Partner, Fulbright &amp; Jaworski LLP</p>
  <p>1:30pm-2:00pm
  Presentation: 
  Reasonable Royalties as an Equitable Remedy
  David Healey, Principal, Fish &amp; Richardson PC</p>
  <p>2:00pm-2:45pm
  Panel: Patent Damages Reform
  Moderator:
  David Adelman, Professor, University of Texas School of Law
  Panelists:
  Steven Pollinger, Principal, McKool Smith PC
  Aaron Cooper, IP Counsel, Senator Patrick Leahy Sr. 
  Judge Lee Yeakel, 
  United States District Court, Western District of Texas
   
  2:45pm-3:00pm
  Afternoon Break</p>
  <p>3:00pm-3:30pm
  Presentation: Injunctions following eBay
  Kevin Meek,  Partner, Baker Botts LLP</p>
  <p>3:30pm-4:00pm
  Presentation: Overview of Recent Damage Cases
  M. Andrew Woodmansee, Partner, Morrison Foerster LLP</p>
  <p>4:00pm-4:30pm
  Presentation: 
  Recovering Attorney Fees in Patent Cases
  David Griffith, Partner, Andrews Kurth LLP
   </p>
  <p>4:30pm-4:45pm
  Closing Remarks
  Ashley Edison &amp; Shannon Lam,
  TIPLJ Co-Symposium Editors</p>\n\nIf you need an accommodation to participate in this event, please contact the event sponsor or the Texas Law Special Events Office at specialevents@law.utexas.edu no later than seven business days prior to the event.
X-ALT-DESC;FMTTYPE=text/html:<p>8:30am-8:45am
  Opening Remarks
  Catherine Garza, TIPLJ Editor-in-Chief</p>
  <p>8:45am-9:15am
  Presentation: IP Issues in the Cloud
  Bart Showalter, Partner, Baker Botts LLP</p>
  <p>9:15am-10:15am
  Presentation: Ethics in Patent Law
  David Hricik, Professor, Mercer University School of Law</p>
  <p>10:30am-11:15am
  Morning Break</p>
  <p>10:30am-11:15am
  Panel: 
  Enforcing Patent Judgments in light of Tivo v. Echostar
  Moderator: 
  Robert Bone, Professor, University of Texas School of Law</p>
  <p>Panelists: 
  Stephen Hash, Partner, Vinson &amp; Elkins LLP
  Magistrate Judge Chad Everingham
  United States District Court, Eastern District of Texas
  Joseph Farnan, Jr., Farnan LLP </p>
  <p>11:15am-11:45am
  Presentation: Trademarks and Search Engines 
  Larry Waks, Partner, Jackson Walker LLP</p>
  <p>11:45am-1:00pm
  Lunch</p>
  <p>12:00pm-12:30pm
  Presentation: Copyright and Mass-Market Contracts
  James Gibson, Professor, University of Richmond School of Law</p>
  <p>12:30pm-1:00pm
  Presentation: Soul of Creativity: 
  Forging a Moral Rights Law for the U.S.
  Roberta Kwall, Professor, DePaul University College of Law</p>
  <p>1:00pm-1:30pm
  Presentation: 
  Proving Reasonable Royalty Damages
  Charles Walker, Partner, Fulbright &amp; Jaworski LLP</p>
  <p>1:30pm-2:00pm
  Presentation: 
  Reasonable Royalties as an Equitable Remedy
  David Healey, Principal, Fish &amp; Richardson PC</p>
  <p>2:00pm-2:45pm
  Panel: Patent Damages Reform
  Moderator:
  David Adelman, Professor, University of Texas School of Law
  Panelists:
  Steven Pollinger, Principal, McKool Smith PC
  Aaron Cooper, IP Counsel, Senator Patrick Leahy Sr. 
  Judge Lee Yeakel, 
  United States District Court, Western District of Texas
   
  2:45pm-3:00pm
  Afternoon Break</p>
  <p>3:00pm-3:30pm
  Presentation: Injunctions following eBay
  Kevin Meek,  Partner, Baker Botts LLP</p>
  <p>3:30pm-4:00pm
  Presentation: Overview of Recent Damage Cases
  M. Andrew Woodmansee, Partner, Morrison Foerster LLP</p>
  <p>4:00pm-4:30pm
  Presentation: 
  Recovering Attorney Fees in Patent Cases
  David Griffith, Partner, Andrews Kurth LLP
   </p>
  <p>4:30pm-4:45pm
  Closing Remarks
  Ashley Edison &amp; Shannon Lam,
  TIPLJ Co-Symposium Editors</p><p>If you need an accommodation to participate in this event, please contact the event
                                          event sponsor or the Texas Law Special Events Office at <a href="mailto:specialevents@law.utexas.edu">specialevents@law.utexas.edu</a> no later than seven business days prior to the event.</p>
CATEGORIES:Symposium
LOCATION:CCJ 2.306 - Eidman Courtroom
URL:http://law.utexas.edu/calendar/2011/02/18/10673/
CLASS:PUBLIC
STATUS:CONFIRMED
COMMENT:ipsymposium.com
END:VEVENT
END:VCALENDAR