BEGIN:VCALENDAR
VERSION:2.0
PRODID:-//UNIVERSITY OF TEXAS SCHOOL OF LAW//NONSGML Events Calendar v1.0//EN
X-WR-TIMEZONE:America/Chicago
BEGIN:VTIMEZONE
TZID:US/Central
X-LIC-LOCATION:America/Chicago
BEGIN:DAYLIGHT
TZOFFSETFROM:-0600
TZOFFSETTO:-0500
TZNAME:CDT
DTSTART:19700308T020000
RRULE:FREQ=YEARLY;BYMONTH=3;BYDAY=2SU
END:DAYLIGHT
BEGIN:STANDARD
TZOFFSETFROM:-0500
TZOFFSETTO:-0600
TZNAME:CST
DTSTART:19701101T020000
RRULE:FREQ=YEARLY;BYMONTH=11;BYDAY=1SU
END:STANDARD
END:VTIMEZONE
BEGIN:VEVENT
DTSTART;TZID=US/Central:20110218T090000
DTEND;VALUE=DATE-TIME;TZID=US/Central:20110218T180000

DTSTAMP:20260424T154000Z
CREATED:20100826T182600Z
LAST-MODIFIED:20110209T221600Z
UID:20110218T090000-8821@law.utexas.edu
SUMMARY:Rapoport Center Conference
DESCRIPTION:<p>This spring the Rapoport Center will host our seventh annual conference, entitled “Aftershocks: Legacies of Conflict” on February 17—18. The conference will capitalize on the performance of Black Watch at the University of Texas, an award-winning play written by Scottish playwright Gregory Burke and performed by the National Theater of Scotland. The play explores the experiences of Scottish soldiers deployed to fight in Iraq from the Black Watch regiment, one of the oldest regiments in British history. “Aftershocks” will explore some of the same intersections of violence, the colonial past, memory, and trauma that Black Watch invokes, as well as the unique role that performance might play in the analysis. It will consider these issues in a variety of geographic spaces and places, with a special emphasis on the legal and political regimes that are meant to preserve memory while also transitioning into post-conflict. Please visit the website for more details.</p>\n\nIf you need an accommodation to participate in this event, please contact the event sponsor or the Texas Law Special Events Office at specialevents@law.utexas.edu no later than seven business days prior to the event.
X-ALT-DESC;FMTTYPE=text/html:<p>This spring the Rapoport Center will host our seventh annual conference, entitled “Aftershocks: Legacies of Conflict” on February 17—18. The conference will capitalize on the performance of Black Watch at the University of Texas, an award-winning play written by Scottish playwright Gregory Burke and performed by the National Theater of Scotland. The play explores the experiences of Scottish soldiers deployed to fight in Iraq from the Black Watch regiment, one of the oldest regiments in British history. “Aftershocks” will explore some of the same intersections of violence, the colonial past, memory, and trauma that Black Watch invokes, as well as the unique role that performance might play in the analysis. It will consider these issues in a variety of geographic spaces and places, with a special emphasis on the legal and political regimes that are meant to preserve memory while also transitioning into post-conflict. Please visit the website for more details.</p><p>If you need an accommodation to participate in this event, please contact the event
                                          event sponsor or the Texas Law Special Events Office at <a href="mailto:specialevents@law.utexas.edu">specialevents@law.utexas.edu</a> no later than seven business days prior to the event.</p>
CATEGORIES:Other
LOCATION:TNH 3.140 - Jeffers Courtroom
URL:http://law.utexas.edu/calendar/2011/02/18/8821/
CLASS:PUBLIC
STATUS:CONFIRMED
COMMENT:Please contact Sarah Cline: scline@law.utexas.edu
END:VEVENT
END:VCALENDAR