BEGIN:VCALENDAR
VERSION:2.0
PRODID:-//UNIVERSITY OF TEXAS SCHOOL OF LAW//NONSGML Events Calendar v1.0//EN
X-WR-TIMEZONE:America/Chicago
BEGIN:VTIMEZONE
TZID:US/Central
X-LIC-LOCATION:America/Chicago
BEGIN:DAYLIGHT
TZOFFSETFROM:-0600
TZOFFSETTO:-0500
TZNAME:CDT
DTSTART:19700308T020000
RRULE:FREQ=YEARLY;BYMONTH=3;BYDAY=2SU
END:DAYLIGHT
BEGIN:STANDARD
TZOFFSETFROM:-0500
TZOFFSETTO:-0600
TZNAME:CST
DTSTART:19701101T020000
RRULE:FREQ=YEARLY;BYMONTH=11;BYDAY=1SU
END:STANDARD
END:VTIMEZONE
BEGIN:VEVENT
DTSTART;TZID=US/Central:20110218
DTEND;TZID=US/Central:20110219
X-MICROSOFT-CDO-ALLDAYEVENT:TRUE
X-FUNAMBOL-ALLDAY:TRUE
DTSTAMP:20260424T182400Z
CREATED:20101207T204700Z
LAST-MODIFIED:20110113T154300Z
UID:20110218T090000-9945@law.utexas.edu
SUMMARY:Leadership Boot Camp
DESCRIPTION:<p>Attention 3Ls and Judicial Law Clerks: Reserve your spot now! Whether you have a job lined up or not, you can’t afford to miss this opportunity to jump start your career!</p>
  <p>The Center for Women in Law will host a limited enrollment Leadership Boot Camp on February 18th. The Boot Camp is an all-day training session on the essential skills for navigating a successful legal career. The day focuses on skills women lawyers traditionally learn too late in their careers to have an impact – effective communication, self-promotion, and building internal and external networks.</p>
  <p>You will have a full day of opportunities to network with representatives from more than 30 organizations. The participating organizations to date include:</p>
  <p>Almanza, Blackburn &amp; Dickie, LLP,
  Andrews Kurth LLP,
  Carls, McDonald &amp; Dalrymple, LLP,
  Fulbright &amp; Jaworski LLP,
  K&amp;L Gates,
  Law Firm of Francés Jones,
  Mary Kay Inc.,
  Morgan, Lewis &amp; Bockius LLP,
  Office of the Attorney General of Texas,
  Shell Oil,
  State Farm Insurance Companies,
  Teacher Retirement System of Texas,
  Texas Appleseed,
  Texas Health and Human Services Commission,
  Texas RioGrande Legal Aid,
  State Farm Insurance Companies,
  Thompson Coe,
  Vinson &amp; Elkins LLP,
  United States District Court for the Southern District of Texas</p>\n\nIf you need an accommodation to participate in this event, please contact the event sponsor or the Texas Law Special Events Office at specialevents@law.utexas.edu no later than seven business days prior to the event.
X-ALT-DESC;FMTTYPE=text/html:<p>Attention 3Ls and Judicial Law Clerks: Reserve your spot now! Whether you have a job lined up or not, you can’t afford to miss this opportunity to jump start your career!</p>
  <p>The Center for Women in Law will host a limited enrollment Leadership Boot Camp on February 18th. The Boot Camp is an all-day training session on the essential skills for navigating a successful legal career. The day focuses on skills women lawyers traditionally learn too late in their careers to have an impact – effective communication, self-promotion, and building internal and external networks.</p>
  <p>You will have a full day of opportunities to network with representatives from more than 30 organizations. The participating organizations to date include:</p>
  <p>Almanza, Blackburn &amp; Dickie, LLP,
  Andrews Kurth LLP,
  Carls, McDonald &amp; Dalrymple, LLP,
  Fulbright &amp; Jaworski LLP,
  K&amp;L Gates,
  Law Firm of Francés Jones,
  Mary Kay Inc.,
  Morgan, Lewis &amp; Bockius LLP,
  Office of the Attorney General of Texas,
  Shell Oil,
  State Farm Insurance Companies,
  Teacher Retirement System of Texas,
  Texas Appleseed,
  Texas Health and Human Services Commission,
  Texas RioGrande Legal Aid,
  State Farm Insurance Companies,
  Thompson Coe,
  Vinson &amp; Elkins LLP,
  United States District Court for the Southern District of Texas</p><p>If you need an accommodation to participate in this event, please contact the event
                                          event sponsor or the Texas Law Special Events Office at <a href="mailto:specialevents@law.utexas.edu">specialevents@law.utexas.edu</a> no later than seven business days prior to the event.</p>
CATEGORIES:Meeting

URL:http://law.utexas.edu/calendar/2011/02/18/9945/
CLASS:PUBLIC
STATUS:CONFIRMED
COMMENT:Ashley Crook at acrook@law.utexas.edu
END:VEVENT
END:VCALENDAR