BEGIN:VCALENDAR
VERSION:2.0
PRODID:-//UNIVERSITY OF TEXAS SCHOOL OF LAW//NONSGML Events Calendar v1.0//EN
X-WR-TIMEZONE:America/Chicago
BEGIN:VTIMEZONE
TZID:US/Central
X-LIC-LOCATION:America/Chicago
BEGIN:DAYLIGHT
TZOFFSETFROM:-0600
TZOFFSETTO:-0500
TZNAME:CDT
DTSTART:19700308T020000
RRULE:FREQ=YEARLY;BYMONTH=3;BYDAY=2SU
END:DAYLIGHT
BEGIN:STANDARD
TZOFFSETFROM:-0500
TZOFFSETTO:-0600
TZNAME:CST
DTSTART:19701101T020000
RRULE:FREQ=YEARLY;BYMONTH=11;BYDAY=1SU
END:STANDARD
END:VTIMEZONE
BEGIN:VEVENT
DTSTART;TZID=US/Central:20110219T190000


DTSTAMP:20260424T154800Z
CREATED:20101221T155500Z
LAST-MODIFIED:20101221T155500Z
UID:20110219T190000-10084@law.utexas.edu
SUMMARY:Spring OCI - Alternate Sched. Begins
DESCRIPTION:<p>Alternate students may begin scheduling via <a href="https://law-utexas-csm.symplicity.com/students/">UT Law Symplicity</a> for <a href="https://www.utexas.edu/law/career/oci/index.html">Spring On-Campus Interviews</a>. Alternate scheduling is on a first-come, first-served basis and closes tomorrow, Sunday, February 20, at noon. </p>\n\nIf you need an accommodation to participate in this event, please contact the event sponsor or the Texas Law Special Events Office at specialevents@law.utexas.edu no later than seven business days prior to the event.
X-ALT-DESC;FMTTYPE=text/html:<p>Alternate students may begin scheduling via <a href="https://law-utexas-csm.symplicity.com/students/">UT Law Symplicity</a> for <a href="https://www.utexas.edu/law/career/oci/index.html">Spring On-Campus Interviews</a>. Alternate scheduling is on a first-come, first-served basis and closes tomorrow, Sunday, February 20, at noon. </p><p>If you need an accommodation to participate in this event, please contact the event
                                          event sponsor or the Texas Law Special Events Office at <a href="mailto:specialevents@law.utexas.edu">specialevents@law.utexas.edu</a> no later than seven business days prior to the event.</p>
CATEGORIES:Interview Program

URL:http://law.utexas.edu/calendar/2011/02/19/10084/
CLASS:PUBLIC
STATUS:CONFIRMED
COMMENT:Please contact Drew Carls  at <a href="mailto:dcarls@law.utexas.edu">dcarls@law.utexas.edu</a> in the CSO.
END:VEVENT
END:VCALENDAR