BEGIN:VCALENDAR
VERSION:2.0
PRODID:-//UNIVERSITY OF TEXAS SCHOOL OF LAW//NONSGML Events Calendar v1.0//EN
X-WR-TIMEZONE:America/Chicago
BEGIN:VTIMEZONE
TZID:US/Central
X-LIC-LOCATION:America/Chicago
BEGIN:DAYLIGHT
TZOFFSETFROM:-0600
TZOFFSETTO:-0500
TZNAME:CDT
DTSTART:19700308T020000
RRULE:FREQ=YEARLY;BYMONTH=3;BYDAY=2SU
END:DAYLIGHT
BEGIN:STANDARD
TZOFFSETFROM:-0500
TZOFFSETTO:-0600
TZNAME:CST
DTSTART:19701101T020000
RRULE:FREQ=YEARLY;BYMONTH=11;BYDAY=1SU
END:STANDARD
END:VTIMEZONE
BEGIN:VEVENT
DTSTART;TZID=US/Central:20110221T113000
DTEND;VALUE=DATE-TIME;TZID=US/Central:20110221T123000

DTSTAMP:20260424T154000Z
CREATED:20110125T224700Z
LAST-MODIFIED:20110217T203000Z
UID:20110221T113000-10542@law.utexas.edu
SUMMARY:WLC - Discussion Panel on Career Success
DESCRIPTION:<p>This discussion panel, hosted by the Women's Law Caucus, will consist of female professionals from varying backgrounds who have achieved success in their careers while maintaining well being in their personal lives. A predetermined Q&amp;A will follow introduction of all of the panelists, and will be moderated by WLC.</p>\n\nIf you need an accommodation to participate in this event, please contact the event sponsor or the Texas Law Special Events Office at specialevents@law.utexas.edu no later than seven business days prior to the event.
X-ALT-DESC;FMTTYPE=text/html:<p>This discussion panel, hosted by the Women's Law Caucus, will consist of female professionals from varying backgrounds who have achieved success in their careers while maintaining well being in their personal lives. A predetermined Q&amp;A will follow introduction of all of the panelists, and will be moderated by WLC.</p><p>If you need an accommodation to participate in this event, please contact the event
                                          event sponsor or the Texas Law Special Events Office at <a href="mailto:specialevents@law.utexas.edu">specialevents@law.utexas.edu</a> no later than seven business days prior to the event.</p>
CATEGORIES:Panel Discussion / Speaker Series
LOCATION:CCJ 2.310 - Jury Room
URL:http://law.utexas.edu/calendar/2011/02/21/10542/
CLASS:PUBLIC
STATUS:CONFIRMED

END:VEVENT
END:VCALENDAR