BEGIN:VCALENDAR
VERSION:2.0
PRODID:-//UNIVERSITY OF TEXAS SCHOOL OF LAW//NONSGML Events Calendar v1.0//EN
X-WR-TIMEZONE:America/Chicago
BEGIN:VTIMEZONE
TZID:US/Central
X-LIC-LOCATION:America/Chicago
BEGIN:DAYLIGHT
TZOFFSETFROM:-0600
TZOFFSETTO:-0500
TZNAME:CDT
DTSTART:19700308T020000
RRULE:FREQ=YEARLY;BYMONTH=3;BYDAY=2SU
END:DAYLIGHT
BEGIN:STANDARD
TZOFFSETFROM:-0500
TZOFFSETTO:-0600
TZNAME:CST
DTSTART:19701101T020000
RRULE:FREQ=YEARLY;BYMONTH=11;BYDAY=1SU
END:STANDARD
END:VTIMEZONE
BEGIN:VEVENT
DTSTART;TZID=US/Central:20110222T113000
DTEND;VALUE=DATE-TIME;TZID=US/Central:20110222T123000

DTSTAMP:20260424T182300Z
CREATED:20101220T203300Z
LAST-MODIFIED:20110214T190300Z
UID:20110222T113000-10062@law.utexas.edu
SUMMARY:Book Talk - “Tested: How Twelve Wrongly
DESCRIPTION:<p>Author Dorothy Budd talks about her book "Tested: How Twelve Wrongly Imprisoned Men Held Onto Hope" with exoneree Christopher Scott.</p>
  <p>About the book: “Tested: How Twelve Wrongly Imprisoned Men Held onto Hope,” by Dorothy Budd and Peyton Budd, explores the lives and stories of twelve men who were wrongly convicted in Dallas County.  All the men spent time in prison before the new evidence helped win their release.  The book is based on the exonerated men’s personal journeys of hope, forgiveness and redemption as told to the authors in one-on-one interviews.  </p>
  <p>About the event:  Join author Dorothy Budd and Christopher Scott, one of the men profiled in “Tested,” in a discussion Scott’s story and the implications of wrongful convictions.  Tiffany Dowling of the Law School’s Actual Innocence Clinic will moderate.  
  </p>
  <p>Lunch provided.</p>\n\nIf you need an accommodation to participate in this event, please contact the event sponsor or the Texas Law Special Events Office at specialevents@law.utexas.edu no later than seven business days prior to the event.
X-ALT-DESC;FMTTYPE=text/html:<p>Author Dorothy Budd talks about her book "Tested: How Twelve Wrongly Imprisoned Men Held Onto Hope" with exoneree Christopher Scott.</p>
  <p>About the book: “Tested: How Twelve Wrongly Imprisoned Men Held onto Hope,” by Dorothy Budd and Peyton Budd, explores the lives and stories of twelve men who were wrongly convicted in Dallas County.  All the men spent time in prison before the new evidence helped win their release.  The book is based on the exonerated men’s personal journeys of hope, forgiveness and redemption as told to the authors in one-on-one interviews.  </p>
  <p>About the event:  Join author Dorothy Budd and Christopher Scott, one of the men profiled in “Tested,” in a discussion Scott’s story and the implications of wrongful convictions.  Tiffany Dowling of the Law School’s Actual Innocence Clinic will moderate.  
  </p>
  <p>Lunch provided.</p><p>If you need an accommodation to participate in this event, please contact the event
                                          event sponsor or the Texas Law Special Events Office at <a href="mailto:specialevents@law.utexas.edu">specialevents@law.utexas.edu</a> no later than seven business days prior to the event.</p>
CATEGORIES:Other
LOCATION:CCJ 2.306 - Eidman Courtroom
URL:http://law.utexas.edu/calendar/2011/02/22/10062/
CLASS:PUBLIC
STATUS:CONFIRMED

END:VEVENT
END:VCALENDAR