BEGIN:VCALENDAR
VERSION:2.0
PRODID:-//UNIVERSITY OF TEXAS SCHOOL OF LAW//NONSGML Events Calendar v1.0//EN
X-WR-TIMEZONE:America/Chicago
BEGIN:VTIMEZONE
TZID:US/Central
X-LIC-LOCATION:America/Chicago
BEGIN:DAYLIGHT
TZOFFSETFROM:-0600
TZOFFSETTO:-0500
TZNAME:CDT
DTSTART:19700308T020000
RRULE:FREQ=YEARLY;BYMONTH=3;BYDAY=2SU
END:DAYLIGHT
BEGIN:STANDARD
TZOFFSETFROM:-0500
TZOFFSETTO:-0600
TZNAME:CST
DTSTART:19701101T020000
RRULE:FREQ=YEARLY;BYMONTH=11;BYDAY=1SU
END:STANDARD
END:VTIMEZONE
BEGIN:VEVENT
DTSTART;TZID=US/Central:20110222T130000
DTEND;VALUE=DATE-TIME;TZID=US/Central:20110222T173000

DTSTAMP:20260424T154900Z
CREATED:20110110T182400Z
LAST-MODIFIED:20110110T182400Z
UID:20110222T130000-10206@law.utexas.edu
SUMMARY:Wind, Solar and Renewables (Pre-Conf.)
DESCRIPTION:<p>Come the afternoon before the main program for the Pre-Conference which explores select issues of interest to developers, market participants, regulators and landowners.</p>
  <p>Topics covered include:</p>
  <p>- An Alphabet Soup of Renewables Energy Terms and Vocabulary</p>
  <p>- Developments in solar technologies and deployment</p>
  <p>- SunPower and SunEdison on The Growing Role and Deployment of Behind-the-Meter Solar: Opportunities and Challenges</p>
  <p>- Detailed coverage of leasing and site development issues from the perspectives of landowners and developers, including the Top 10 Leasing Issues Landowners Object to—But Should Not</p>
  <p>- Strategies of Renewable Developers and Generators under New Market and Day-Ahead Rules</p>
  <p>- What’s Happening with Offshore Wind Developments and Geothermal Leases in Texas and the U.S.</p>\n\nIf you need an accommodation to participate in this event, please contact the event sponsor or the Texas Law Special Events Office at specialevents@law.utexas.edu no later than seven business days prior to the event.
X-ALT-DESC;FMTTYPE=text/html:<p>Come the afternoon before the main program for the Pre-Conference which explores select issues of interest to developers, market participants, regulators and landowners.</p>
  <p>Topics covered include:</p>
  <p>- An Alphabet Soup of Renewables Energy Terms and Vocabulary</p>
  <p>- Developments in solar technologies and deployment</p>
  <p>- SunPower and SunEdison on The Growing Role and Deployment of Behind-the-Meter Solar: Opportunities and Challenges</p>
  <p>- Detailed coverage of leasing and site development issues from the perspectives of landowners and developers, including the Top 10 Leasing Issues Landowners Object to—But Should Not</p>
  <p>- Strategies of Renewable Developers and Generators under New Market and Day-Ahead Rules</p>
  <p>- What’s Happening with Offshore Wind Developments and Geothermal Leases in Texas and the U.S.</p><p>If you need an accommodation to participate in this event, please contact the event
                                          event sponsor or the Texas Law Special Events Office at <a href="mailto:specialevents@law.utexas.edu">specialevents@law.utexas.edu</a> no later than seven business days prior to the event.</p>
CATEGORIES:Other
LOCATION:AT&T Conference Center
URL:http://law.utexas.edu/calendar/2011/02/22/10206/
CLASS:PUBLIC
STATUS:CONFIRMED
COMMENT:http://www.utcle.org/ 512-475-6700
END:VEVENT
END:VCALENDAR