BEGIN:VCALENDAR
VERSION:2.0
PRODID:-//UNIVERSITY OF TEXAS SCHOOL OF LAW//NONSGML Events Calendar v1.0//EN
X-WR-TIMEZONE:America/Chicago
BEGIN:VTIMEZONE
TZID:US/Central
X-LIC-LOCATION:America/Chicago
BEGIN:DAYLIGHT
TZOFFSETFROM:-0600
TZOFFSETTO:-0500
TZNAME:CDT
DTSTART:19700308T020000
RRULE:FREQ=YEARLY;BYMONTH=3;BYDAY=2SU
END:DAYLIGHT
BEGIN:STANDARD
TZOFFSETFROM:-0500
TZOFFSETTO:-0600
TZNAME:CST
DTSTART:19701101T020000
RRULE:FREQ=YEARLY;BYMONTH=11;BYDAY=1SU
END:STANDARD
END:VTIMEZONE
BEGIN:VEVENT
DTSTART;TZID=US/Central:20110222T113000
DTEND;VALUE=DATE-TIME;TZID=US/Central:20110222T123000

DTSTAMP:20260424T154100Z
CREATED:20110207T222400Z
LAST-MODIFIED:20110222T171300Z
UID:20110222T113000-10724@law.utexas.edu
SUMMARY:Careers in Renewable Energy Law
DESCRIPTION:<p>Learn about careers in renewable energy law from  Michael Barnas, Senior Counsel for Renewables, <a href="http://www.gepower.com/businesses/ge_wind_energy/en/index.htm">GE Energy</a>; Neva DePalma, Key Account Manager, <a href="http://www.vestas.com/">Vestas American Wind Technology</a>; Kenneth Glazier, Vice President Legal, <a href="http://www.suzlon.com">Suzlon Wind Energy Corporation</a>; and <a href="http://www.stoel.com/showbio.aspx?show=221">Alan R. Merkel, Partner and Chair</a>, Stoel Rives LLP. Moderated by Melinda Taylor, Senior Lecturer and Executive Director for the Center for Global Energy, International Arbitration and Environmental Law. Co-sponsored by the <a href="http://www.utexas.edu/law/academics/centers/energy/">Center for Global Energy, International Arbitration, and Environmental Law</a> and the <a href="http://www.utexas.edu/law/career/">Career Services Office</a>. Pizza will be served afterwards to students. RSVP by Monday, February 21, on <a href="https://law-utexas-csm.symplicity.com/students/">UT Law Symplicity</a> by selecting the “Events” tab.</p>\n\nIf you need an accommodation to participate in this event, please contact the event sponsor or the Texas Law Special Events Office at specialevents@law.utexas.edu no later than seven business days prior to the event.
X-ALT-DESC;FMTTYPE=text/html:<p>Learn about careers in renewable energy law from  Michael Barnas, Senior Counsel for Renewables, <a href="http://www.gepower.com/businesses/ge_wind_energy/en/index.htm">GE Energy</a>; Neva DePalma, Key Account Manager, <a href="http://www.vestas.com/">Vestas American Wind Technology</a>; Kenneth Glazier, Vice President Legal, <a href="http://www.suzlon.com">Suzlon Wind Energy Corporation</a>; and <a href="http://www.stoel.com/showbio.aspx?show=221">Alan R. Merkel, Partner and Chair</a>, Stoel Rives LLP. Moderated by Melinda Taylor, Senior Lecturer and Executive Director for the Center for Global Energy, International Arbitration and Environmental Law. Co-sponsored by the <a href="http://www.utexas.edu/law/academics/centers/energy/">Center for Global Energy, International Arbitration, and Environmental Law</a> and the <a href="http://www.utexas.edu/law/career/">Career Services Office</a>. Pizza will be served afterwards to students. RSVP by Monday, February 21, on <a href="https://law-utexas-csm.symplicity.com/students/">UT Law Symplicity</a> by selecting the “Events” tab.</p><p>If you need an accommodation to participate in this event, please contact the event
                                          event sponsor or the Texas Law Special Events Office at <a href="mailto:specialevents@law.utexas.edu">specialevents@law.utexas.edu</a> no later than seven business days prior to the event.</p>
CATEGORIES:Panel Discussion / Speaker Series
LOCATION:TNH 3.140 - Jeffers Courtroom
URL:http://law.utexas.edu/calendar/2011/02/22/10724/
CLASS:PUBLIC
STATUS:CONFIRMED
COMMENT:Please contact Gena Dawson at <a href="mailto:gdawson@law.utexas.edu">gdawson@law.utexas.edu</a> or 512-475-9328.
END:VEVENT
END:VCALENDAR