BEGIN:VCALENDAR
VERSION:2.0
PRODID:-//UNIVERSITY OF TEXAS SCHOOL OF LAW//NONSGML Events Calendar v1.0//EN
X-WR-TIMEZONE:America/Chicago
BEGIN:VTIMEZONE
TZID:US/Central
X-LIC-LOCATION:America/Chicago
BEGIN:DAYLIGHT
TZOFFSETFROM:-0600
TZOFFSETTO:-0500
TZNAME:CDT
DTSTART:19700308T020000
RRULE:FREQ=YEARLY;BYMONTH=3;BYDAY=2SU
END:DAYLIGHT
BEGIN:STANDARD
TZOFFSETFROM:-0500
TZOFFSETTO:-0600
TZNAME:CST
DTSTART:19701101T020000
RRULE:FREQ=YEARLY;BYMONTH=11;BYDAY=1SU
END:STANDARD
END:VTIMEZONE
BEGIN:VEVENT
DTSTART;TZID=US/Central:20110223
DTEND;TZID=US/Central:20110224
X-MICROSOFT-CDO-ALLDAYEVENT:TRUE
X-FUNAMBOL-ALLDAY:TRUE
DTSTAMP:20260424T154800Z
CREATED:20110110T182900Z
LAST-MODIFIED:20110110T182900Z
UID:20110223T090000-10207@law.utexas.edu
SUMMARY:UT CLE Wind, Solar and Renewables
DESCRIPTION:<p>Join leading players and participants in Texas wind, solar and renewable energy, including developers, manufacturing company representatives, financial advisors and market experts, corporate counsel and law firms, and leading regulatory and legislative leaders including keynote speakers John R. Norris, Commissioner of FERC, and Rep. Mark Strama of the Texas House of Representatives.</p>
  <p>The 2011 program features:</p>
  <p>- Cutting-edge topics: energy economics in 2011; PPAs, rates of return, project viability and valuation; grid integration challenges; renewable transmission plays; solar; geothermal; turbine technology and economics; and much more.</p>
  <p>- A-list speakers from E.ON Climate &amp; Renewables, Filsinger Energy Partners, AES Wind Generation, Samsung, Siemens, SCHOTT Solar CSP, Inc., SunPower Corporation, SunEdison, First Solar, Clean Line Energy Partners, Xtreme Power, Pattern Energy Group LP, Stewart Title Guaranty Company, LCRA and Tres Amigas.</p>
  <p>- Great networking opportunities with speakers and participants at breakfasts, luncheons, and Wednesday evening’s reception.</p>
  <p>- Superb resources and materials: Law, leases, deal points and PPAs, plus transmission, regulatory and project development updates.</p>\n\nIf you need an accommodation to participate in this event, please contact the event sponsor or the Texas Law Special Events Office at specialevents@law.utexas.edu no later than seven business days prior to the event.
X-ALT-DESC;FMTTYPE=text/html:<p>Join leading players and participants in Texas wind, solar and renewable energy, including developers, manufacturing company representatives, financial advisors and market experts, corporate counsel and law firms, and leading regulatory and legislative leaders including keynote speakers John R. Norris, Commissioner of FERC, and Rep. Mark Strama of the Texas House of Representatives.</p>
  <p>The 2011 program features:</p>
  <p>- Cutting-edge topics: energy economics in 2011; PPAs, rates of return, project viability and valuation; grid integration challenges; renewable transmission plays; solar; geothermal; turbine technology and economics; and much more.</p>
  <p>- A-list speakers from E.ON Climate &amp; Renewables, Filsinger Energy Partners, AES Wind Generation, Samsung, Siemens, SCHOTT Solar CSP, Inc., SunPower Corporation, SunEdison, First Solar, Clean Line Energy Partners, Xtreme Power, Pattern Energy Group LP, Stewart Title Guaranty Company, LCRA and Tres Amigas.</p>
  <p>- Great networking opportunities with speakers and participants at breakfasts, luncheons, and Wednesday evening’s reception.</p>
  <p>- Superb resources and materials: Law, leases, deal points and PPAs, plus transmission, regulatory and project development updates.</p><p>If you need an accommodation to participate in this event, please contact the event
                                          event sponsor or the Texas Law Special Events Office at <a href="mailto:specialevents@law.utexas.edu">specialevents@law.utexas.edu</a> no later than seven business days prior to the event.</p>
CATEGORIES:Other
LOCATION:AT&T Conference Center
URL:http://law.utexas.edu/calendar/2011/02/23/10207/
CLASS:PUBLIC
STATUS:CONFIRMED
COMMENT:http://www.utcle.org/  512-475-6700
END:VEVENT
END:VCALENDAR