BEGIN:VCALENDAR
VERSION:2.0
PRODID:-//UNIVERSITY OF TEXAS SCHOOL OF LAW//NONSGML Events Calendar v1.0//EN
X-WR-TIMEZONE:America/Chicago
BEGIN:VTIMEZONE
TZID:US/Central
X-LIC-LOCATION:America/Chicago
BEGIN:DAYLIGHT
TZOFFSETFROM:-0600
TZOFFSETTO:-0500
TZNAME:CDT
DTSTART:19700308T020000
RRULE:FREQ=YEARLY;BYMONTH=3;BYDAY=2SU
END:DAYLIGHT
BEGIN:STANDARD
TZOFFSETFROM:-0500
TZOFFSETTO:-0600
TZNAME:CST
DTSTART:19701101T020000
RRULE:FREQ=YEARLY;BYMONTH=11;BYDAY=1SU
END:STANDARD
END:VTIMEZONE
BEGIN:VEVENT
DTSTART;TZID=US/Central:20110223T113000
DTEND;VALUE=DATE-TIME;TZID=US/Central:20110223T123000

DTSTAMP:20260424T154700Z
CREATED:20110114T015000Z
LAST-MODIFIED:20110221T211800Z
UID:20110223T113000-10271@law.utexas.edu
SUMMARY:Debt Management
DESCRIPTION:<p>Learn about strategies to manage your educational debt, including the UT Law and federal loan repayment and forgiveness programs for lawyers pursuing public service careers. Presented by Nicole Simmons,
  Public Interest Career Counselor, and Professor Mary Crouter. Co-sponsored by the Career Services Office and the William Wayne Justice Center for Public Interest Law. Lunch will be served afterwards in CCJ 3.306. RSVP by Tuesday, February 22, on <a href="https://law-utexas-csm.symplicity.com/students/">UT Law Symplicity</a> by selecting the “Events” tab. </p>\n\nIf you need an accommodation to participate in this event, please contact the event sponsor or the Texas Law Special Events Office at specialevents@law.utexas.edu no later than seven business days prior to the event.
X-ALT-DESC;FMTTYPE=text/html:<p>Learn about strategies to manage your educational debt, including the UT Law and federal loan repayment and forgiveness programs for lawyers pursuing public service careers. Presented by Nicole Simmons,
  Public Interest Career Counselor, and Professor Mary Crouter. Co-sponsored by the Career Services Office and the William Wayne Justice Center for Public Interest Law. Lunch will be served afterwards in CCJ 3.306. RSVP by Tuesday, February 22, on <a href="https://law-utexas-csm.symplicity.com/students/">UT Law Symplicity</a> by selecting the “Events” tab. </p><p>If you need an accommodation to participate in this event, please contact the event
                                          event sponsor or the Texas Law Special Events Office at <a href="mailto:specialevents@law.utexas.edu">specialevents@law.utexas.edu</a> no later than seven business days prior to the event.</p>
CATEGORIES:Workshop / Training Program
LOCATION:CCJ 2.306 - Eidman Courtroom
URL:http://law.utexas.edu/calendar/2011/02/23/10271/
CLASS:PUBLIC
STATUS:CONFIRMED
COMMENT:Please contact Nicole Simmons at <a href="mailto:nsimmons@law.utexas.edu">nsimmons@law.utexas.edu</a> in the CSO.
END:VEVENT
END:VCALENDAR