BEGIN:VCALENDAR
VERSION:2.0
PRODID:-//UNIVERSITY OF TEXAS SCHOOL OF LAW//NONSGML Events Calendar v1.0//EN
X-WR-TIMEZONE:America/Chicago
BEGIN:VTIMEZONE
TZID:US/Central
X-LIC-LOCATION:America/Chicago
BEGIN:DAYLIGHT
TZOFFSETFROM:-0600
TZOFFSETTO:-0500
TZNAME:CDT
DTSTART:19700308T020000
RRULE:FREQ=YEARLY;BYMONTH=3;BYDAY=2SU
END:DAYLIGHT
BEGIN:STANDARD
TZOFFSETFROM:-0500
TZOFFSETTO:-0600
TZNAME:CST
DTSTART:19701101T020000
RRULE:FREQ=YEARLY;BYMONTH=11;BYDAY=1SU
END:STANDARD
END:VTIMEZONE
BEGIN:VEVENT
DTSTART;TZID=US/Central:20110224T113000
DTEND;VALUE=DATE-TIME;TZID=US/Central:20110224T123000

DTSTAMP:20260424T154100Z
CREATED:20110208T220500Z
LAST-MODIFIED:20110209T190900Z
UID:20110224T113000-10748@law.utexas.edu
SUMMARY:Sarah Weddington speaks at UT Law
DESCRIPTION:<p>Come see the attorney who argued Roe v. Wade before the Supreme Court talk about:</p>
  <p>Reproductive Justice in Texas: Legal Trends in Reproductive Rights from Roe to the Present on February 24th, 11:30-12:30 in rm. 3.142. </p>
  <p>The Law Students for Reproductive Justice are hosting this panel discussion, with involvement from local lobbyists, leaders of non-profit organizations, and UT Law faculty.
  Light refreshments will be served. Don't miss this fabulous opportunity!</p>\n\nIf you need an accommodation to participate in this event, please contact the event sponsor or the Texas Law Special Events Office at specialevents@law.utexas.edu no later than seven business days prior to the event.
X-ALT-DESC;FMTTYPE=text/html:<p>Come see the attorney who argued Roe v. Wade before the Supreme Court talk about:</p>
  <p>Reproductive Justice in Texas: Legal Trends in Reproductive Rights from Roe to the Present on February 24th, 11:30-12:30 in rm. 3.142. </p>
  <p>The Law Students for Reproductive Justice are hosting this panel discussion, with involvement from local lobbyists, leaders of non-profit organizations, and UT Law faculty.
  Light refreshments will be served. Don't miss this fabulous opportunity!</p><p>If you need an accommodation to participate in this event, please contact the event
                                          event sponsor or the Texas Law Special Events Office at <a href="mailto:specialevents@law.utexas.edu">specialevents@law.utexas.edu</a> no later than seven business days prior to the event.</p>
CATEGORIES:Panel Discussion / Speaker Series
LOCATION:TNH 3.142 - Walker Classroom
URL:http://law.utexas.edu/calendar/2011/02/24/10748/
CLASS:PUBLIC
STATUS:CONFIRMED

END:VEVENT
END:VCALENDAR