BEGIN:VCALENDAR
VERSION:2.0
PRODID:-//UNIVERSITY OF TEXAS SCHOOL OF LAW//NONSGML Events Calendar v1.0//EN
X-WR-TIMEZONE:America/Chicago
BEGIN:VTIMEZONE
TZID:US/Central
X-LIC-LOCATION:America/Chicago
BEGIN:DAYLIGHT
TZOFFSETFROM:-0600
TZOFFSETTO:-0500
TZNAME:CDT
DTSTART:19700308T020000
RRULE:FREQ=YEARLY;BYMONTH=3;BYDAY=2SU
END:DAYLIGHT
BEGIN:STANDARD
TZOFFSETFROM:-0500
TZOFFSETTO:-0600
TZNAME:CST
DTSTART:19701101T020000
RRULE:FREQ=YEARLY;BYMONTH=11;BYDAY=1SU
END:STANDARD
END:VTIMEZONE
BEGIN:VEVENT
DTSTART;TZID=US/Central:20110224T113000
DTEND;VALUE=DATE-TIME;TZID=US/Central:20110224T123000

DTSTAMP:20260424T154100Z
CREATED:20110211T174800Z
LAST-MODIFIED:20110223T212800Z
UID:20110224T113000-10804@law.utexas.edu
SUMMARY:Career Exploration: Practice Areas 101
DESCRIPTION:<p>NEW LOCATION! Learn about practicing in specialized areas from leading attorneys in their fields who will share their insights and experiences with you and conclude the program with a question and answer session. Panelists include Judy Speer-Gamino and Ted Wood (<a href="http://www.txgovernmentlawyer.org">Government Lawyers Section</a>); Richard Fry (<a href="http://www.sbotfam.org">Family Law Section</a>); Greg Bourgeois (<a href="http://www.texasadr.org/">ADR Section</a>);
  Aaron Carlson (<a href="http://www.oilgas.org">Oil, Gas &amp; Energy Resources Law Section</a>); and Hal Sanders (<a href="http://www.litigationsection.com/">Litigation Section</a>). Co-sponsored by the State Bar of Texas Law Student Division, Student Bar Association, and the Career Services Office. Lunch will be served.RSVP by Wednesday, February 23, on <a href="https://law-utexas-csm.symplicity.com/students/">UT Law Symplicity</a> by selecting the “Events” tab.</p>\n\nIf you need an accommodation to participate in this event, please contact the event sponsor or the Texas Law Special Events Office at specialevents@law.utexas.edu no later than seven business days prior to the event.
X-ALT-DESC;FMTTYPE=text/html:<p>NEW LOCATION! Learn about practicing in specialized areas from leading attorneys in their fields who will share their insights and experiences with you and conclude the program with a question and answer session. Panelists include Judy Speer-Gamino and Ted Wood (<a href="http://www.txgovernmentlawyer.org">Government Lawyers Section</a>); Richard Fry (<a href="http://www.sbotfam.org">Family Law Section</a>); Greg Bourgeois (<a href="http://www.texasadr.org/">ADR Section</a>);
  Aaron Carlson (<a href="http://www.oilgas.org">Oil, Gas &amp; Energy Resources Law Section</a>); and Hal Sanders (<a href="http://www.litigationsection.com/">Litigation Section</a>). Co-sponsored by the State Bar of Texas Law Student Division, Student Bar Association, and the Career Services Office. Lunch will be served.RSVP by Wednesday, February 23, on <a href="https://law-utexas-csm.symplicity.com/students/">UT Law Symplicity</a> by selecting the “Events” tab.</p><p>If you need an accommodation to participate in this event, please contact the event
                                          event sponsor or the Texas Law Special Events Office at <a href="mailto:specialevents@law.utexas.edu">specialevents@law.utexas.edu</a> no later than seven business days prior to the event.</p>
CATEGORIES:Panel Discussion / Speaker Series
LOCATION:TNH 3.140 - Jeffers Courtroom
URL:http://law.utexas.edu/calendar/2011/02/24/10804/
CLASS:PUBLIC
STATUS:CONFIRMED
COMMENT:Please contact Matthew Kaipust at <a href="mailto:%20mattkaipust@gmail.com">mattkaipust@gmail.com</a>.
END:VEVENT
END:VCALENDAR