BEGIN:VCALENDAR
VERSION:2.0
PRODID:-//UNIVERSITY OF TEXAS SCHOOL OF LAW//NONSGML Events Calendar v1.0//EN
X-WR-TIMEZONE:America/Chicago
BEGIN:VTIMEZONE
TZID:US/Central
X-LIC-LOCATION:America/Chicago
BEGIN:DAYLIGHT
TZOFFSETFROM:-0600
TZOFFSETTO:-0500
TZNAME:CDT
DTSTART:19700308T020000
RRULE:FREQ=YEARLY;BYMONTH=3;BYDAY=2SU
END:DAYLIGHT
BEGIN:STANDARD
TZOFFSETFROM:-0500
TZOFFSETTO:-0600
TZNAME:CST
DTSTART:19701101T020000
RRULE:FREQ=YEARLY;BYMONTH=11;BYDAY=1SU
END:STANDARD
END:VTIMEZONE
BEGIN:VEVENT
DTSTART;TZID=US/Central:20110224T123000
DTEND;VALUE=DATE-TIME;TZID=US/Central:20110224T133000

DTSTAMP:20260424T154100Z
CREATED:20110217T224000Z
LAST-MODIFIED:20110223T230200Z
UID:20110224T123000-10905@law.utexas.edu
SUMMARY:JD in Nonpracticing Roles
DESCRIPTION:<p>NEW LOCATION! Not sure what you want to do with your law degree? Thinking about a non-practicing career? Join in a discussion over lunch about professional careers beyond the bar exam with Angelica Salinas Evans, Associate Director for Career Services; Allison Davis, 3L; who is determined to use her law degree in nontraditional ways, and other liked-minded students. Come share your thoughts about your career path so better resources and opportunities to connect with others may be provided. If you are unable to attend, but are interested in finding out more about nonpracticing resources and careers, please contact Angelica Salinas Evans in the CSO at <a href="mailto:aevans@law.utexas.edu">aevans@law.utexas.edu</a>. Lunch will be served. RSVP by Wednesday, February 23, on <a href="https://law-utexas-csm.symplicity.com/students/">UT Law Symplicity</a> by selecting the “Events” tab.</p>\n\nIf you need an accommodation to participate in this event, please contact the event sponsor or the Texas Law Special Events Office at specialevents@law.utexas.edu no later than seven business days prior to the event.
X-ALT-DESC;FMTTYPE=text/html:<p>NEW LOCATION! Not sure what you want to do with your law degree? Thinking about a non-practicing career? Join in a discussion over lunch about professional careers beyond the bar exam with Angelica Salinas Evans, Associate Director for Career Services; Allison Davis, 3L; who is determined to use her law degree in nontraditional ways, and other liked-minded students. Come share your thoughts about your career path so better resources and opportunities to connect with others may be provided. If you are unable to attend, but are interested in finding out more about nonpracticing resources and careers, please contact Angelica Salinas Evans in the CSO at <a href="mailto:aevans@law.utexas.edu">aevans@law.utexas.edu</a>. Lunch will be served. RSVP by Wednesday, February 23, on <a href="https://law-utexas-csm.symplicity.com/students/">UT Law Symplicity</a> by selecting the “Events” tab.</p><p>If you need an accommodation to participate in this event, please contact the event
                                          event sponsor or the Texas Law Special Events Office at <a href="mailto:specialevents@law.utexas.edu">specialevents@law.utexas.edu</a> no later than seven business days prior to the event.</p>
CATEGORIES:Meeting
LOCATION:TNH 3.124 - Neathery Classroom
URL:http://law.utexas.edu/calendar/2011/02/24/10905/
CLASS:PUBLIC
STATUS:CONFIRMED
COMMENT:Please contact Angelica Salinas Evans at <a href="mailto:aevans@law.utexas.edu">aevans@law.utexas.edu</a> in the CSO.
END:VEVENT
END:VCALENDAR