BEGIN:VCALENDAR
VERSION:2.0
PRODID:-//UNIVERSITY OF TEXAS SCHOOL OF LAW//NONSGML Events Calendar v1.0//EN
X-WR-TIMEZONE:America/Chicago
BEGIN:VTIMEZONE
TZID:US/Central
X-LIC-LOCATION:America/Chicago
BEGIN:DAYLIGHT
TZOFFSETFROM:-0600
TZOFFSETTO:-0500
TZNAME:CDT
DTSTART:19700308T020000
RRULE:FREQ=YEARLY;BYMONTH=3;BYDAY=2SU
END:DAYLIGHT
BEGIN:STANDARD
TZOFFSETFROM:-0500
TZOFFSETTO:-0600
TZNAME:CST
DTSTART:19701101T020000
RRULE:FREQ=YEARLY;BYMONTH=11;BYDAY=1SU
END:STANDARD
END:VTIMEZONE
BEGIN:VEVENT
DTSTART;TZID=US/Central:20110224T200000
DTEND;VALUE=DATE-TIME;TZID=US/Central:20110225T003000

DTSTAMP:20260424T154100Z
CREATED:20110221T035400Z
LAST-MODIFIED:20110221T042100Z
UID:20110224T200000-10922@law.utexas.edu
SUMMARY:DTP 1st Annual VolleyBar Review
DESCRIPTION:<p>Calling all Journals, Student Organizations, and UT Law Community Members: </p>
  <p>The last bar review in February is the first annual Delta Theta Phi VolleyBar Review: A Charity Fundraiser Volleyball Tournament! Get your team (or teams, if you dare) prepared and register in the atrium until 3PM Thursday, Feb 24. The tournament will be 4-on-4; in the sands of Aussies Grill &amp; Beach Bar; and prizes will be awarded to the winners, best team theme, and select others.</p>
  <p>As for the details: all proceeds from the tournament will go to Volunteer Legal Services of Central Texas. Entry is $5/person or $20/team of 4, which includes a T-Shirt for each person. </p>
  <p>Questions? Ask the Coach at texasdtp@gmail.com.</p>\n\nIf you need an accommodation to participate in this event, please contact the event sponsor or the Texas Law Special Events Office at specialevents@law.utexas.edu no later than seven business days prior to the event.
X-ALT-DESC;FMTTYPE=text/html:<p>Calling all Journals, Student Organizations, and UT Law Community Members: </p>
  <p>The last bar review in February is the first annual Delta Theta Phi VolleyBar Review: A Charity Fundraiser Volleyball Tournament! Get your team (or teams, if you dare) prepared and register in the atrium until 3PM Thursday, Feb 24. The tournament will be 4-on-4; in the sands of Aussies Grill &amp; Beach Bar; and prizes will be awarded to the winners, best team theme, and select others.</p>
  <p>As for the details: all proceeds from the tournament will go to Volunteer Legal Services of Central Texas. Entry is $5/person or $20/team of 4, which includes a T-Shirt for each person. </p>
  <p>Questions? Ask the Coach at texasdtp@gmail.com.</p><p>If you need an accommodation to participate in this event, please contact the event
                                          event sponsor or the Texas Law Special Events Office at <a href="mailto:specialevents@law.utexas.edu">specialevents@law.utexas.edu</a> no later than seven business days prior to the event.</p>
CATEGORIES:Other

URL:http://law.utexas.edu/calendar/2011/02/24/10922/
CLASS:PUBLIC
STATUS:CONFIRMED
COMMENT:Contact: texasdtp@gmail.com
END:VEVENT
END:VCALENDAR