BEGIN:VCALENDAR
VERSION:2.0
PRODID:-//UNIVERSITY OF TEXAS SCHOOL OF LAW//NONSGML Events Calendar v1.0//EN
X-WR-TIMEZONE:America/Chicago
BEGIN:VTIMEZONE
TZID:US/Central
X-LIC-LOCATION:America/Chicago
BEGIN:DAYLIGHT
TZOFFSETFROM:-0600
TZOFFSETTO:-0500
TZNAME:CDT
DTSTART:19700308T020000
RRULE:FREQ=YEARLY;BYMONTH=3;BYDAY=2SU
END:DAYLIGHT
BEGIN:STANDARD
TZOFFSETFROM:-0500
TZOFFSETTO:-0600
TZNAME:CST
DTSTART:19701101T020000
RRULE:FREQ=YEARLY;BYMONTH=11;BYDAY=1SU
END:STANDARD
END:VTIMEZONE
BEGIN:VEVENT
DTSTART;TZID=US/Central:20110224T090000
DTEND;VALUE=DATE-TIME;TZID=US/Central:20110224T103000

DTSTAMP:20260424T154100Z
CREATED:20101209T170300Z
LAST-MODIFIED:20110223T214200Z
UID:20110224T090000-9962@law.utexas.edu
SUMMARY:Breakfast Tacos with Andrews Kurth LLP
DESCRIPTION:<p>All UT Law students are welcome to stop by for breakfast tacos and meet with the Austin, Dallas, and Houston hiring partners of <a href="http://www.andrewskurth.com/">Andrews Kurth LLP</a>. This is a great opportunity for 1Ls to learn more about the firm. </p>\n\nIf you need an accommodation to participate in this event, please contact the event sponsor or the Texas Law Special Events Office at specialevents@law.utexas.edu no later than seven business days prior to the event.
X-ALT-DESC;FMTTYPE=text/html:<p>All UT Law students are welcome to stop by for breakfast tacos and meet with the Austin, Dallas, and Houston hiring partners of <a href="http://www.andrewskurth.com/">Andrews Kurth LLP</a>. This is a great opportunity for 1Ls to learn more about the firm. </p><p>If you need an accommodation to participate in this event, please contact the event
                                          event sponsor or the Texas Law Special Events Office at <a href="mailto:specialevents@law.utexas.edu">specialevents@law.utexas.edu</a> no later than seven business days prior to the event.</p>
CATEGORIES:Breakfast
LOCATION:TNH 2.100 - Susman Godfrey Atrium
URL:http://law.utexas.edu/calendar/2011/02/24/9962/
CLASS:PUBLIC
STATUS:CONFIRMED
COMMENT:Please contact Deb Freeman at <a href="mailto:dfreeman@law.utexas.edu">dfreeman@law.utexas.edu</a> in the CSO.
END:VEVENT
END:VCALENDAR