BEGIN:VCALENDAR
VERSION:2.0
PRODID:-//UNIVERSITY OF TEXAS SCHOOL OF LAW//NONSGML Events Calendar v1.0//EN
X-WR-TIMEZONE:America/Chicago
BEGIN:VTIMEZONE
TZID:US/Central
X-LIC-LOCATION:America/Chicago
BEGIN:DAYLIGHT
TZOFFSETFROM:-0600
TZOFFSETTO:-0500
TZNAME:CDT
DTSTART:19700308T020000
RRULE:FREQ=YEARLY;BYMONTH=3;BYDAY=2SU
END:DAYLIGHT
BEGIN:STANDARD
TZOFFSETFROM:-0500
TZOFFSETTO:-0600
TZNAME:CST
DTSTART:19701101T020000
RRULE:FREQ=YEARLY;BYMONTH=11;BYDAY=1SU
END:STANDARD
END:VTIMEZONE
BEGIN:VEVENT
DTSTART;TZID=US/Central:20110225T113000
DTEND;VALUE=DATE-TIME;TZID=US/Central:20110225T123000

DTSTAMP:20260424T154100Z
CREATED:20110218T181200Z
LAST-MODIFIED:20110221T181100Z
UID:20110225T113000-10911@law.utexas.edu
SUMMARY:Texas State Courts Judicial Clerkship
DESCRIPTION:<p>The Clerkship Advisors encourage 2Ls and 3Ls applying for judicial clerkships this year and 1Ls hoping to apply next summer to attend this Workshop, which features a panel of judges from various Texas state courts discussing judicial clerkship with their courts. Judges participating in the panel discussion incldue <a href="http://www.supreme.courts.state.tx.us/court/justice_dmedina.asp">Justice David Medina, Supreme Court of Texas</a>; <a href="http://www.cca.courts.state.tx.us/court/judge_bhervey.asp">Judge Barbara Hervey, Texas Court of Criminal Appeals</a>; <a href="http://www.1stcoa.courts.state.tx.us/court/justice_ealcala.asp">Justice Elsa Alcala, Texas Court of Appeals, 1st District</a>; and <a href="http://www.11thcoa.courts.state.tx.us/court/justice_rstrange.asp">Justice Rick Strange, Texas Court of Appeals, 11th District</a>. RSVP by Thursday, February 24, on <a href="https://law-utexas-csm.symplicity.com/students/">UT Law Symplicity</a> by selecting the “Events” tab.</p>\n\nIf you need an accommodation to participate in this event, please contact the event sponsor or the Texas Law Special Events Office at specialevents@law.utexas.edu no later than seven business days prior to the event.
X-ALT-DESC;FMTTYPE=text/html:<p>The Clerkship Advisors encourage 2Ls and 3Ls applying for judicial clerkships this year and 1Ls hoping to apply next summer to attend this Workshop, which features a panel of judges from various Texas state courts discussing judicial clerkship with their courts. Judges participating in the panel discussion incldue <a href="http://www.supreme.courts.state.tx.us/court/justice_dmedina.asp">Justice David Medina, Supreme Court of Texas</a>; <a href="http://www.cca.courts.state.tx.us/court/judge_bhervey.asp">Judge Barbara Hervey, Texas Court of Criminal Appeals</a>; <a href="http://www.1stcoa.courts.state.tx.us/court/justice_ealcala.asp">Justice Elsa Alcala, Texas Court of Appeals, 1st District</a>; and <a href="http://www.11thcoa.courts.state.tx.us/court/justice_rstrange.asp">Justice Rick Strange, Texas Court of Appeals, 11th District</a>. RSVP by Thursday, February 24, on <a href="https://law-utexas-csm.symplicity.com/students/">UT Law Symplicity</a> by selecting the “Events” tab.</p><p>If you need an accommodation to participate in this event, please contact the event
                                          event sponsor or the Texas Law Special Events Office at <a href="mailto:specialevents@law.utexas.edu">specialevents@law.utexas.edu</a> no later than seven business days prior to the event.</p>
CATEGORIES:Workshop / Training Program
LOCATION:CCJ 2.306 - Eidman Courtroom
URL:http://law.utexas.edu/calendar/2011/02/25/10911/
CLASS:PUBLIC
STATUS:CONFIRMED
COMMENT:Please contact Remi Ratliff at <a href="mailto:rrattliff@law.utexas.edu">rratliff@law.utexas.edu</a> in the CSO.
END:VEVENT
END:VCALENDAR