BEGIN:VCALENDAR
VERSION:2.0
PRODID:-//UNIVERSITY OF TEXAS SCHOOL OF LAW//NONSGML Events Calendar v1.0//EN
X-WR-TIMEZONE:America/Chicago
BEGIN:VTIMEZONE
TZID:US/Central
X-LIC-LOCATION:America/Chicago
BEGIN:DAYLIGHT
TZOFFSETFROM:-0600
TZOFFSETTO:-0500
TZNAME:CDT
DTSTART:19700308T020000
RRULE:FREQ=YEARLY;BYMONTH=3;BYDAY=2SU
END:DAYLIGHT
BEGIN:STANDARD
TZOFFSETFROM:-0500
TZOFFSETTO:-0600
TZNAME:CST
DTSTART:19701101T020000
RRULE:FREQ=YEARLY;BYMONTH=11;BYDAY=1SU
END:STANDARD
END:VTIMEZONE
BEGIN:VEVENT
DTSTART;TZID=US/Central:20110225
DTEND;TZID=US/Central:20110226
X-MICROSOFT-CDO-ALLDAYEVENT:TRUE
X-FUNAMBOL-ALLDAY:TRUE
DTSTAMP:20260424T170100Z
CREATED:20101117T221300Z
LAST-MODIFIED:20101117T221300Z
UID:20110225T000000-9732@law.utexas.edu
SUMMARY:Rio Grande Valley Legal Job Fair
DESCRIPTION:<p>The <a href="https://www.utexas.edu/law/career/fairs/valley.html">Rio Grande Valley Legal Job Fair</a> takes place Friday, February 25, 2011. All accredited law schools in Texas will be invited to participate. First-year, second-year, third-year and LL.M. students and recent graduates specifically interested in pursuing employment with small to midsize firms and corporations in Texas are encouraged to consider participating in this program, which is presented by the <a href="http://www.hidalgobar.org">Hidalgo County Bar Association</a>. </p>\n\nIf you need an accommodation to participate in this event, please contact the event sponsor or the Texas Law Special Events Office at specialevents@law.utexas.edu no later than seven business days prior to the event.
X-ALT-DESC;FMTTYPE=text/html:<p>The <a href="https://www.utexas.edu/law/career/fairs/valley.html">Rio Grande Valley Legal Job Fair</a> takes place Friday, February 25, 2011. All accredited law schools in Texas will be invited to participate. First-year, second-year, third-year and LL.M. students and recent graduates specifically interested in pursuing employment with small to midsize firms and corporations in Texas are encouraged to consider participating in this program, which is presented by the <a href="http://www.hidalgobar.org">Hidalgo County Bar Association</a>. </p><p>If you need an accommodation to participate in this event, please contact the event
                                          event sponsor or the Texas Law Special Events Office at <a href="mailto:specialevents@law.utexas.edu">specialevents@law.utexas.edu</a> no later than seven business days prior to the event.</p>
CATEGORIES:Interview Program
LOCATION:Edinburg, TX
URL:http://law.utexas.edu/calendar/2011/02/25/9732/
CLASS:PUBLIC
STATUS:CONFIRMED
COMMENT:Please contact Sandra Valencia at <a href="mailto:svalencia@law.utexas.edu">svalencia@law.utexas.edu</a> or 512-232-1161 in the CSO.
END:VEVENT
END:VCALENDAR