BEGIN:VCALENDAR
VERSION:2.0
PRODID:-//UNIVERSITY OF TEXAS SCHOOL OF LAW//NONSGML Events Calendar v1.0//EN
X-WR-TIMEZONE:America/Chicago
BEGIN:VTIMEZONE
TZID:US/Central
X-LIC-LOCATION:America/Chicago
BEGIN:DAYLIGHT
TZOFFSETFROM:-0600
TZOFFSETTO:-0500
TZNAME:CDT
DTSTART:19700308T020000
RRULE:FREQ=YEARLY;BYMONTH=3;BYDAY=2SU
END:DAYLIGHT
BEGIN:STANDARD
TZOFFSETFROM:-0500
TZOFFSETTO:-0600
TZNAME:CST
DTSTART:19701101T020000
RRULE:FREQ=YEARLY;BYMONTH=11;BYDAY=1SU
END:STANDARD
END:VTIMEZONE
BEGIN:VEVENT
DTSTART;TZID=US/Central:20110302T080000


DTSTAMP:20260424T193800Z
CREATED:20110202T233800Z
LAST-MODIFIED:20110301T172900Z
UID:20110302T080000-10672@law.utexas.edu
SUMMARY:Sign Up for Speed Networking
DESCRIPTION:<p>Space is limited to the first 35 students who sign up <strong>IN PERSON</strong> in the CSO (TNH 3.130) at 8 a.m. on Wednesday, March 2 for our Speed Networking workshop, which will be held Tuesday, March 8 from 5-6:30 p.m. at George's Cafe.<strong> You must be able to attend the entire event from 5-6:30 p.m.</strong> Students who sign up in advance will have the opportunity to network one-on-one with legal professionals from a variety of practice areas, as well as fellow students, during several short (8-10 minutes) speed networking rounds. Following the program, there will be a reception from 6:30-7:00 p.m. that is open to all UT Law students. Sponsored by <a href="http://www.alston.com/">Alston + Bird LLP</a>. RSVP to the reception portion of the event by Monday, March 7, on <a href="https://law-utexas-csm.symplicity.com/students/">UT Law Symplicity</a> by selecting the “Events” tab.  </p>\n\nIf you need an accommodation to participate in this event, please contact the event sponsor or the Texas Law Special Events Office at specialevents@law.utexas.edu no later than seven business days prior to the event.
X-ALT-DESC;FMTTYPE=text/html:<p>Space is limited to the first 35 students who sign up <strong>IN PERSON</strong> in the CSO (TNH 3.130) at 8 a.m. on Wednesday, March 2 for our Speed Networking workshop, which will be held Tuesday, March 8 from 5-6:30 p.m. at George's Cafe.<strong> You must be able to attend the entire event from 5-6:30 p.m.</strong> Students who sign up in advance will have the opportunity to network one-on-one with legal professionals from a variety of practice areas, as well as fellow students, during several short (8-10 minutes) speed networking rounds. Following the program, there will be a reception from 6:30-7:00 p.m. that is open to all UT Law students. Sponsored by <a href="http://www.alston.com/">Alston + Bird LLP</a>. RSVP to the reception portion of the event by Monday, March 7, on <a href="https://law-utexas-csm.symplicity.com/students/">UT Law Symplicity</a> by selecting the “Events” tab.  </p><p>If you need an accommodation to participate in this event, please contact the event
                                          event sponsor or the Texas Law Special Events Office at <a href="mailto:specialevents@law.utexas.edu">specialevents@law.utexas.edu</a> no later than seven business days prior to the event.</p>

LOCATION:Career Services Office (TNH 3.130)
URL:http://law.utexas.edu/calendar/2011/03/02/10672/
CLASS:PUBLIC
STATUS:CONFIRMED
COMMENT:Please contact Deb Freeman at <a href="mailto:dfreeman@law.utexas.edu">dfreeman@law.utexas.edu</a> in the CSO.
END:VEVENT
END:VCALENDAR