BEGIN:VCALENDAR
VERSION:2.0
PRODID:-//UNIVERSITY OF TEXAS SCHOOL OF LAW//NONSGML Events Calendar v1.0//EN
X-WR-TIMEZONE:America/Chicago
BEGIN:VTIMEZONE
TZID:US/Central
X-LIC-LOCATION:America/Chicago
BEGIN:DAYLIGHT
TZOFFSETFROM:-0600
TZOFFSETTO:-0500
TZNAME:CDT
DTSTART:19700308T020000
RRULE:FREQ=YEARLY;BYMONTH=3;BYDAY=2SU
END:DAYLIGHT
BEGIN:STANDARD
TZOFFSETFROM:-0500
TZOFFSETTO:-0600
TZNAME:CST
DTSTART:19701101T020000
RRULE:FREQ=YEARLY;BYMONTH=11;BYDAY=1SU
END:STANDARD
END:VTIMEZONE
BEGIN:VEVENT
DTSTART;TZID=US/Central:20110307T113000
DTEND;VALUE=DATE-TIME;TZID=US/Central:20110307T123000

DTSTAMP:20260424T182300Z
CREATED:20110118T231100Z
LAST-MODIFIED:20110224T173600Z
UID:20110307T113000-10345@law.utexas.edu
SUMMARY:Judicial Internships for Fall/Spring
DESCRIPTION:<p>Even if you attended the previous panel on summer judicial internships, we encourage you to take advantage of this program to visit directly with judges and judicial staff over lunch about what interns do in their courts and why judicial internships are valuable. Guests include Judge Lee Yeakel ’69, U.S. District Court for the Western District of Texas; Judge H. Christopher Mott, U.S. Bankruptcy Court for the Western District of Texas; Administrative Law Judges Tommy Broyles and Craig Bennett, State Office of Administrative Hearings; Kyle Kaiser ’03, Staff Attorney for Justice Dale Wainwright, Texas Supreme Court; and Anna Dowe ’01, Staff Attorney for Judge Lawrence Meyers, Texas Court of Criminal Appeals. Pizza will be served. RSVP by Friday, March 4, on <a href="https://law-utexas-csm.symplicity.com/students/">UT Law Symplicity</a> by selecting the “Events” tab.</p>\n\nIf you need an accommodation to participate in this event, please contact the event sponsor or the Texas Law Special Events Office at specialevents@law.utexas.edu no later than seven business days prior to the event.
X-ALT-DESC;FMTTYPE=text/html:<p>Even if you attended the previous panel on summer judicial internships, we encourage you to take advantage of this program to visit directly with judges and judicial staff over lunch about what interns do in their courts and why judicial internships are valuable. Guests include Judge Lee Yeakel ’69, U.S. District Court for the Western District of Texas; Judge H. Christopher Mott, U.S. Bankruptcy Court for the Western District of Texas; Administrative Law Judges Tommy Broyles and Craig Bennett, State Office of Administrative Hearings; Kyle Kaiser ’03, Staff Attorney for Justice Dale Wainwright, Texas Supreme Court; and Anna Dowe ’01, Staff Attorney for Judge Lawrence Meyers, Texas Court of Criminal Appeals. Pizza will be served. RSVP by Friday, March 4, on <a href="https://law-utexas-csm.symplicity.com/students/">UT Law Symplicity</a> by selecting the “Events” tab.</p><p>If you need an accommodation to participate in this event, please contact the event
                                          event sponsor or the Texas Law Special Events Office at <a href="mailto:specialevents@law.utexas.edu">specialevents@law.utexas.edu</a> no later than seven business days prior to the event.</p>
CATEGORIES:Lunch
LOCATION:TNH 2.111 - Sheffield-Massey Room
URL:http://law.utexas.edu/calendar/2011/03/07/10345/
CLASS:PUBLIC
STATUS:CONFIRMED
COMMENT:Please contact Remi Ratliff at <a href="mailto:rrattliff@law.utexas.edu">rratliff@law.utexas.edu</a> in the CSO.
END:VEVENT
END:VCALENDAR