BEGIN:VCALENDAR
VERSION:2.0
PRODID:-//UNIVERSITY OF TEXAS SCHOOL OF LAW//NONSGML Events Calendar v1.0//EN
X-WR-TIMEZONE:America/Chicago
BEGIN:VTIMEZONE
TZID:US/Central
X-LIC-LOCATION:America/Chicago
BEGIN:DAYLIGHT
TZOFFSETFROM:-0600
TZOFFSETTO:-0500
TZNAME:CDT
DTSTART:19700308T020000
RRULE:FREQ=YEARLY;BYMONTH=3;BYDAY=2SU
END:DAYLIGHT
BEGIN:STANDARD
TZOFFSETFROM:-0500
TZOFFSETTO:-0600
TZNAME:CST
DTSTART:19701101T020000
RRULE:FREQ=YEARLY;BYMONTH=11;BYDAY=1SU
END:STANDARD
END:VTIMEZONE
BEGIN:VEVENT
DTSTART;TZID=US/Central:20110307T113000
DTEND;VALUE=DATE-TIME;TZID=US/Central:20110307T121500

DTSTAMP:20260424T123600Z
CREATED:20110211T212700Z
LAST-MODIFIED:20110214T140900Z
UID:20110307T113000-10805@law.utexas.edu
SUMMARY:International Arbitration in Latin Ameri
DESCRIPTION:<p>Jose Maria Abascal, a prominent arbitrator and arbitration specialist from Mexico City, will give a lunch-time talk covering international arbitration issues in Latin America.  Señor Abascal has a fascinating background, having served as a court member of the LCIA for a number of years, and he has been intimately involved in drafting amendments to Uncitral’s model law on international arbitration. Please join us for a fascinating discussion.We will provide the lunch.</p>\n\nIf you need an accommodation to participate in this event, please contact the event sponsor or the Texas Law Special Events Office at specialevents@law.utexas.edu no later than seven business days prior to the event.
X-ALT-DESC;FMTTYPE=text/html:<p>Jose Maria Abascal, a prominent arbitrator and arbitration specialist from Mexico City, will give a lunch-time talk covering international arbitration issues in Latin America.  Señor Abascal has a fascinating background, having served as a court member of the LCIA for a number of years, and he has been intimately involved in drafting amendments to Uncitral’s model law on international arbitration. Please join us for a fascinating discussion.We will provide the lunch.</p><p>If you need an accommodation to participate in this event, please contact the event
                                          event sponsor or the Texas Law Special Events Office at <a href="mailto:specialevents@law.utexas.edu">specialevents@law.utexas.edu</a> no later than seven business days prior to the event.</p>
CATEGORIES:Panel Discussion / Speaker Series
LOCATION:TNH 3.126 - Ratliff Classroom
URL:http://law.utexas.edu/calendar/2011/03/07/10805/
CLASS:PUBLIC
STATUS:CONFIRMED

END:VEVENT
END:VCALENDAR