BEGIN:VCALENDAR
VERSION:2.0
PRODID:-//UNIVERSITY OF TEXAS SCHOOL OF LAW//NONSGML Events Calendar v1.0//EN
X-WR-TIMEZONE:America/Chicago
BEGIN:VTIMEZONE
TZID:US/Central
X-LIC-LOCATION:America/Chicago
BEGIN:DAYLIGHT
TZOFFSETFROM:-0600
TZOFFSETTO:-0500
TZNAME:CDT
DTSTART:19700308T020000
RRULE:FREQ=YEARLY;BYMONTH=3;BYDAY=2SU
END:DAYLIGHT
BEGIN:STANDARD
TZOFFSETFROM:-0500
TZOFFSETTO:-0600
TZNAME:CST
DTSTART:19701101T020000
RRULE:FREQ=YEARLY;BYMONTH=11;BYDAY=1SU
END:STANDARD
END:VTIMEZONE
BEGIN:VEVENT
DTSTART;TZID=US/Central:20110307T153000
DTEND;VALUE=DATE-TIME;TZID=US/Central:20110307T183000

DTSTAMP:20260424T122900Z
CREATED:20110301T154900Z
LAST-MODIFIED:20110301T173800Z
UID:20110307T153000-11144@law.utexas.edu
SUMMARY:"Nostalgia de la Luz" Film &amp; Discussion
DESCRIPTION:<p>The Human Rights and the Arts Working Group at the Rapoport Center for Human Rights and Justice invites you to attend a screening of the film "Nostalgia de la Luz"! The screening will take place on Monday, March 7 at 3:30pm.</p>
  <p>A discussion on human rights and their portrayal in film will follow, featuring Prof. Carcamo-Huechante (Department of Spanish and Portuguese), Prof. Zipporah Wiseman (School of Law), and Dr. Lucas Lixinski (Rapoport Center for Human Rights and Justice).</p>
  <p>Among many intersecting themes, the film sheds light on several Chilean women’s search for their relatives, victims of “enforced disappearance” during Augusto Pinochet’s reign. The film, written and directed by Patricio Guzmán, was featured in the 2010 Cannes Film Festival, with the following synopsis:</p>
  <p>“In Chile, at three thousand metres altitude, astronomers from all over the world gather together in the Atacama desert to observe the stars. The desert sky is so translucent that it allows them to see right to the boundaries of the universe. </p>
  <p>It is also a place where the harsh heat of the sun keeps human remains intact: those of the mummies, explorers and miners. But also the remains of the dictatorship's political prisoners.</p>
  <p>Whilst the astronomers examine the most distant galaxies in search of probable extraterrestrial life, at the foot of the observatories a group of women are digging through the desert soil in search of their disappeared relatives…”</p>
  <p>Questions may be directed to Rapoport Center Human Rights Scholar, Stacy Cammarano, at stacy.cammarano@gmail.com. 
  </p>\n\nIf you need an accommodation to participate in this event, please contact the event sponsor or the Texas Law Special Events Office at specialevents@law.utexas.edu no later than seven business days prior to the event.
X-ALT-DESC;FMTTYPE=text/html:<p>The Human Rights and the Arts Working Group at the Rapoport Center for Human Rights and Justice invites you to attend a screening of the film "Nostalgia de la Luz"! The screening will take place on Monday, March 7 at 3:30pm.</p>
  <p>A discussion on human rights and their portrayal in film will follow, featuring Prof. Carcamo-Huechante (Department of Spanish and Portuguese), Prof. Zipporah Wiseman (School of Law), and Dr. Lucas Lixinski (Rapoport Center for Human Rights and Justice).</p>
  <p>Among many intersecting themes, the film sheds light on several Chilean women’s search for their relatives, victims of “enforced disappearance” during Augusto Pinochet’s reign. The film, written and directed by Patricio Guzmán, was featured in the 2010 Cannes Film Festival, with the following synopsis:</p>
  <p>“In Chile, at three thousand metres altitude, astronomers from all over the world gather together in the Atacama desert to observe the stars. The desert sky is so translucent that it allows them to see right to the boundaries of the universe. </p>
  <p>It is also a place where the harsh heat of the sun keeps human remains intact: those of the mummies, explorers and miners. But also the remains of the dictatorship's political prisoners.</p>
  <p>Whilst the astronomers examine the most distant galaxies in search of probable extraterrestrial life, at the foot of the observatories a group of women are digging through the desert soil in search of their disappeared relatives…”</p>
  <p>Questions may be directed to Rapoport Center Human Rights Scholar, Stacy Cammarano, at stacy.cammarano@gmail.com. 
  </p><p>If you need an accommodation to participate in this event, please contact the event
                                          event sponsor or the Texas Law Special Events Office at <a href="mailto:specialevents@law.utexas.edu">specialevents@law.utexas.edu</a> no later than seven business days prior to the event.</p>
CATEGORIES:Panel Discussion / Speaker Series
LOCATION:TNH 2.140 - Wright Classroom
URL:http://law.utexas.edu/calendar/2011/03/07/11144/
CLASS:PUBLIC
STATUS:CONFIRMED
COMMENT:Contact Sarah Cline at scline@law.utexas.edu or 232-4857.
END:VEVENT
END:VCALENDAR