BEGIN:VCALENDAR
VERSION:2.0
PRODID:-//UNIVERSITY OF TEXAS SCHOOL OF LAW//NONSGML Events Calendar v1.0//EN
X-WR-TIMEZONE:America/Chicago
BEGIN:VTIMEZONE
TZID:US/Central
X-LIC-LOCATION:America/Chicago
BEGIN:DAYLIGHT
TZOFFSETFROM:-0600
TZOFFSETTO:-0500
TZNAME:CDT
DTSTART:19700308T020000
RRULE:FREQ=YEARLY;BYMONTH=3;BYDAY=2SU
END:DAYLIGHT
BEGIN:STANDARD
TZOFFSETFROM:-0500
TZOFFSETTO:-0600
TZNAME:CST
DTSTART:19701101T020000
RRULE:FREQ=YEARLY;BYMONTH=11;BYDAY=1SU
END:STANDARD
END:VTIMEZONE
BEGIN:VEVENT
DTSTART;TZID=US/Central:20110308T113000
DTEND;VALUE=DATE-TIME;TZID=US/Central:20110308T123000

DTSTAMP:20260424T135800Z
CREATED:20110114T014300Z
LAST-MODIFIED:20110302T145800Z
UID:20110308T113000-10269@law.utexas.edu
SUMMARY:Network Like a Natural
DESCRIPTION:<p>Learn how to overcome the fear of networking and how to successfully strategize your networking options. Panelists include <a>Jason Cook ’00</a>, <a>Alex Rose ‘06</a>, <a>Deepa Nama ’09</a>, and <a>Dwayne Norton</a> of <a href="http://www.alston.com/">Alston + Bird LLP</a> who are sponsoring the program.  Lunch will be served. RSVP by Monday, March 7, on <a href="https://law-utexas-csm.symplicity.com/students/">UT Law Symplicity</a> by selecting the “Events” tab.</p>\n\nIf you need an accommodation to participate in this event, please contact the event sponsor or the Texas Law Special Events Office at specialevents@law.utexas.edu no later than seven business days prior to the event.
X-ALT-DESC;FMTTYPE=text/html:<p>Learn how to overcome the fear of networking and how to successfully strategize your networking options. Panelists include <a>Jason Cook ’00</a>, <a>Alex Rose ‘06</a>, <a>Deepa Nama ’09</a>, and <a>Dwayne Norton</a> of <a href="http://www.alston.com/">Alston + Bird LLP</a> who are sponsoring the program.  Lunch will be served. RSVP by Monday, March 7, on <a href="https://law-utexas-csm.symplicity.com/students/">UT Law Symplicity</a> by selecting the “Events” tab.</p><p>If you need an accommodation to participate in this event, please contact the event
                                          event sponsor or the Texas Law Special Events Office at <a href="mailto:specialevents@law.utexas.edu">specialevents@law.utexas.edu</a> no later than seven business days prior to the event.</p>
CATEGORIES:Workshop / Training Program
LOCATION:TNH 2.114 - Francis Auditorium
URL:http://law.utexas.edu/calendar/2011/03/08/10269/
CLASS:PUBLIC
STATUS:CONFIRMED
COMMENT:Please contact Deb Freeman at <a href="mailto:dfreeman@law.utexas.edu">dfreeman@law.utexas.edu</a> in the CSO.
END:VEVENT
END:VCALENDAR